BEGIN:VCALENDAR
VERSION:2.0
PRODID:-//UVBB - ECPv6.15.20//NONSGML v1.0//EN
CALSCALE:GREGORIAN
METHOD:PUBLISH
X-WR-CALNAME:UVBB
X-ORIGINAL-URL:https://uv-bb.de
X-WR-CALDESC:Veranstaltungen für UVBB
REFRESH-INTERVAL;VALUE=DURATION:PT1H
X-Robots-Tag:noindex
X-PUBLISHED-TTL:PT1H
BEGIN:VTIMEZONE
TZID:Europe/Berlin
BEGIN:DAYLIGHT
TZOFFSETFROM:+0100
TZOFFSETTO:+0200
TZNAME:CEST
DTSTART:20190331T010000
END:DAYLIGHT
BEGIN:STANDARD
TZOFFSETFROM:+0200
TZOFFSETTO:+0100
TZNAME:CET
DTSTART:20191027T010000
END:STANDARD
BEGIN:DAYLIGHT
TZOFFSETFROM:+0100
TZOFFSETTO:+0200
TZNAME:CEST
DTSTART:20200329T010000
END:DAYLIGHT
BEGIN:STANDARD
TZOFFSETFROM:+0200
TZOFFSETTO:+0100
TZNAME:CET
DTSTART:20201025T010000
END:STANDARD
BEGIN:DAYLIGHT
TZOFFSETFROM:+0100
TZOFFSETTO:+0200
TZNAME:CEST
DTSTART:20210328T010000
END:DAYLIGHT
BEGIN:STANDARD
TZOFFSETFROM:+0200
TZOFFSETTO:+0100
TZNAME:CET
DTSTART:20211031T010000
END:STANDARD
BEGIN:DAYLIGHT
TZOFFSETFROM:+0100
TZOFFSETTO:+0200
TZNAME:CEST
DTSTART:20220327T010000
END:DAYLIGHT
BEGIN:STANDARD
TZOFFSETFROM:+0200
TZOFFSETTO:+0100
TZNAME:CET
DTSTART:20221030T010000
END:STANDARD
BEGIN:DAYLIGHT
TZOFFSETFROM:+0100
TZOFFSETTO:+0200
TZNAME:CEST
DTSTART:20230326T010000
END:DAYLIGHT
BEGIN:STANDARD
TZOFFSETFROM:+0200
TZOFFSETTO:+0100
TZNAME:CET
DTSTART:20231029T010000
END:STANDARD
BEGIN:DAYLIGHT
TZOFFSETFROM:+0100
TZOFFSETTO:+0200
TZNAME:CEST
DTSTART:20240331T010000
END:DAYLIGHT
BEGIN:STANDARD
TZOFFSETFROM:+0200
TZOFFSETTO:+0100
TZNAME:CET
DTSTART:20241027T010000
END:STANDARD
BEGIN:DAYLIGHT
TZOFFSETFROM:+0100
TZOFFSETTO:+0200
TZNAME:CEST
DTSTART:20250330T010000
END:DAYLIGHT
BEGIN:STANDARD
TZOFFSETFROM:+0200
TZOFFSETTO:+0100
TZNAME:CET
DTSTART:20251026T010000
END:STANDARD
END:VTIMEZONE
BEGIN:VEVENT
DTSTART;TZID=Europe/Berlin:20241126T090000
DTEND;TZID=Europe/Berlin:20241126T110000
DTSTAMP:20260425T151939
CREATED:20241025T074355Z
LAST-MODIFIED:20241108T091330Z
UID:10002058-1732611600-1732618800@uv-bb.de
SUMMARY:Unternehmerfrühstück des VB Südbrandenburg am 26.11.24
DESCRIPTION:Wir laden Sie herzlich zum Unternehmerfrühstück des Verbandsbezirkes Südbrandenburg ein. \n\n\n\n \n\n\n\nDatum / Uhrzeit:Dienstag\, 26. November 2024\, 09:00 bis 11:00 Uhr \n\n\n\nVeranstaltungsort: Restaurant Inselperle\, Hotel Stadt Spremberg\, Am Markt 5\, 03130 Spremberg \n\n\n\nGesprächsthemen zum Netzwerken:– Neues rund um den UV-BB (neuer Vizepräsident\, Zusammenarbeit mit den anderen    Verbänden der Region\, Projekt mit OPZL in Zielona Gora)– Entwicklungen im und um den ISP– Ihre aktuellen Gedanken\, Fragen und auch Sorgen als Unternehmer   \n\n\n\n \n\n\n\n\n\n\n\n\n\n\n\n \n\n\n\nAnmeldung \n\n\n\nWir bitten um verbindliche Anmeldung bis zum 20. November 2024 \n\n\n\n	\n	\n	\n	\n    \n\n	    \n    \n        Anmeldungen sind für diese Veranstaltung geschlossen
URL:https://uv-bb.de/event/unternehmerfruehstueck-am-26-11-24/
LOCATION:Restaurant Inselperle (Hotel Stadt Spremberg)\, Am Markt 5\, Spremberg\, Brandenburg\, 03130\, Deutschland
CATEGORIES:VB Süd,Verbandsbezirke
ATTACH;FMTTYPE=image/jpeg:https://uv-bb.de/wp-content/uploads/2022/02/Logo-UV-BB.jpg
END:VEVENT
BEGIN:VEVENT
DTSTART;TZID=Europe/Berlin:20230419T090000
DTEND;TZID=Europe/Berlin:20230419T110000
DTSTAMP:20260425T151939
CREATED:20230221T111230Z
LAST-MODIFIED:20230404T075708Z
UID:10001950-1681894800-1681902000@uv-bb.de
SUMMARY:Unternehmerfrühstück Spremberg am 19.04.23
DESCRIPTION:Wir laden Sie herzlich zu unserem 1. Unternehmerfrühstück des Verbandsbezirks Südbrandenburg im Jahr 2023 ein. \n\n\n\nDie Veranstaltung findet am Mittwoch\, den 19. April 2023 von 9:00 bis 11:00 Uhr im Restaurant Inselperle\, Hotel Stadt Spremberg\, Am Markt 5\, 03130 Spremberg statt. \n\n\n\nDie Veranstaltung steht unter dem großen Thema „Fachkräftesicherung“.– Wie kann ich meine Mitarbeiter binden\, um sie nicht an große Firmen zu verlieren?– Können uns ausländische Fachkräfte retten? Gibt es dazu schon Erfahrungen? \n\n\n\nDazu haben wir folgende Referenten eingeladen: \n\n\n\nFrau Guhlan von der Spremberger Initiative „Heeme Fehlste“: Sie gibt ein Feedback zu Rückkehrern. Kommen welche zurück? Warum kommen sie zurück? Wie lange dauert es\, bis sie im neuen Job sind? \n\n\n\nHerr Wolter\, Rektor der BOS Spremberg:Er berichtet\, wie in der BOS die Schüler vorbereitet und beraten werden\, gerade auch bzgl. Handwerksberufen. \n\n\n\nWir bitten um verbindliche Anmeldung bis zum 12.04.2023 und freuen uns auf ein Wiedersehen.
URL:https://uv-bb.de/event/unternehmerfruehstueck-spremberg-am-19-04-23/
LOCATION:Restaurant Inselperle (Hotel Stadt Spremberg)\, Am Markt 5\, Spremberg\, Brandenburg\, 03130\, Deutschland
CATEGORIES:VB Süd
ATTACH;FMTTYPE=image/jpeg:https://uv-bb.de/wp-content/uploads/2019/11/LOGO_UVBB2019_RGB-square.jpg
END:VEVENT
BEGIN:VEVENT
DTSTART;TZID=Europe/Berlin:20200312T090000
DTEND;TZID=Europe/Berlin:20200312T110000
DTSTAMP:20260425T151939
CREATED:20200218T074427Z
LAST-MODIFIED:20200225T100354Z
UID:10001710-1584003600-1584010800@uv-bb.de
SUMMARY:Businessfrühstück in Spremberg
DESCRIPTION:Thema: Die Herausforderungen für den Strukturentwicklungsprozess in der Lausitz\, welche Schwerpunktinnovationen sind geplant. \n\n\n\n \n\n\n\nReferent: Herr Gerhard Hänel von der ASG Spremberg GmbH berichtet zum Projekt „Referenzkraftwerk“. \n\n\n\n \n\n\n\n \n\n\n\n\n\n\n\n\n\n\n\n\n\n \n\n\n\nUm verbindliche Anmeldung bis zum 9. März wird gebeten. \n\n\n\n	\n	\n	\n	\n    \n\n	    \n    \n        Anmeldungen sind für diese Veranstaltung geschlossen
URL:https://uv-bb.de/event/businessfruehstueck-in-spremberg-2/
LOCATION:Restaurant Inselperle (Hotel Stadt Spremberg)\, Am Markt 5\, Spremberg\, Brandenburg\, 03130\, Deutschland
CATEGORIES:VB Süd
END:VEVENT
END:VCALENDAR