BEGIN:VCALENDAR
VERSION:2.0
PRODID:-//UVBB - ECPv6.15.20//NONSGML v1.0//EN
CALSCALE:GREGORIAN
METHOD:PUBLISH
X-WR-CALNAME:UVBB
X-ORIGINAL-URL:https://uv-bb.de
X-WR-CALDESC:Veranstaltungen für UVBB
REFRESH-INTERVAL;VALUE=DURATION:PT1H
X-Robots-Tag:noindex
X-PUBLISHED-TTL:PT1H
BEGIN:VTIMEZONE
TZID:Europe/Berlin
BEGIN:DAYLIGHT
TZOFFSETFROM:+0100
TZOFFSETTO:+0200
TZNAME:CEST
DTSTART:20220327T010000
END:DAYLIGHT
BEGIN:STANDARD
TZOFFSETFROM:+0200
TZOFFSETTO:+0100
TZNAME:CET
DTSTART:20221030T010000
END:STANDARD
BEGIN:DAYLIGHT
TZOFFSETFROM:+0100
TZOFFSETTO:+0200
TZNAME:CEST
DTSTART:20230326T010000
END:DAYLIGHT
BEGIN:STANDARD
TZOFFSETFROM:+0200
TZOFFSETTO:+0100
TZNAME:CET
DTSTART:20231029T010000
END:STANDARD
BEGIN:DAYLIGHT
TZOFFSETFROM:+0100
TZOFFSETTO:+0200
TZNAME:CEST
DTSTART:20240331T010000
END:DAYLIGHT
BEGIN:STANDARD
TZOFFSETFROM:+0200
TZOFFSETTO:+0100
TZNAME:CET
DTSTART:20241027T010000
END:STANDARD
END:VTIMEZONE
BEGIN:VEVENT
DTSTART;TZID=Europe/Berlin:20230905T180000
DTEND;TZID=Europe/Berlin:20230905T200000
DTSTAMP:20260421T234705
CREATED:20230731T072526Z
LAST-MODIFIED:20230731T080325Z
UID:10001618-1693936800-1693944000@uv-bb.de
SUMMARY:Gewerbestammtisch Schönefeld am 05.09.23
DESCRIPTION:Jeden ersten Dienstag im Monat veranstaltet der Schönefelder Gewerbeverein e.V. in Kooperation mit dem UVBB den Gewerbestammtisch Schönefeld zu Themen der Entwicklung der Flughafenregion.  \n\n\n\nWährend der Schulferien wird ausgesetzt. Fällt der Termin auf einen Feiertag\, dann wird auf den Folgetag ausgewichen. Zunächst bis Ende 2023 findet die Veranstaltung im Wintergarten des Restaurant Albergo\, Waßmannsdorfer Chaussee 2\, 12529 Schönefeld statt und beginnt jeweils 18:00 Uhr.  \n\n\n\nDie Termine für 2023: 05.09. + 04.10. + 07.11. + 05.12. \n\n\n\n\n\n\n\n\n\nVerbindliche Anmeldung \n\n\n\n	\n	\n	\n	\n    \n\n	    \n    \n        Anmeldungen sind für diese Veranstaltung geschlossen \n        \n        	\n\n\n\n\n\n\n\nFoto: pixabay
URL:https://uv-bb.de/event/gewerbestammtisch-schoenefeld-am-05-09-23/
LOCATION:Restaurant Albergo\, Waßmannsdorfer Chaussee 2\, Schönefeld\, 12629\, Deutschland
CATEGORIES:Allgemein
ATTACH;FMTTYPE=image/png:https://uv-bb.de/wp-content/uploads/2021/01/news-1644696_1280.png
END:VEVENT
END:VCALENDAR