BEGIN:VCALENDAR
VERSION:2.0
PRODID:-//UVBB - ECPv6.15.20//NONSGML v1.0//EN
CALSCALE:GREGORIAN
METHOD:PUBLISH
X-ORIGINAL-URL:https://uv-bb.de
X-WR-CALDESC:Veranstaltungen für UVBB
REFRESH-INTERVAL;VALUE=DURATION:PT1H
X-Robots-Tag:noindex
X-PUBLISHED-TTL:PT1H
BEGIN:VTIMEZONE
TZID:Europe/Berlin
BEGIN:DAYLIGHT
TZOFFSETFROM:+0100
TZOFFSETTO:+0200
TZNAME:CEST
DTSTART:20210328T010000
END:DAYLIGHT
BEGIN:STANDARD
TZOFFSETFROM:+0200
TZOFFSETTO:+0100
TZNAME:CET
DTSTART:20211031T010000
END:STANDARD
BEGIN:DAYLIGHT
TZOFFSETFROM:+0100
TZOFFSETTO:+0200
TZNAME:CEST
DTSTART:20220327T010000
END:DAYLIGHT
BEGIN:STANDARD
TZOFFSETFROM:+0200
TZOFFSETTO:+0100
TZNAME:CET
DTSTART:20221030T010000
END:STANDARD
BEGIN:DAYLIGHT
TZOFFSETFROM:+0100
TZOFFSETTO:+0200
TZNAME:CEST
DTSTART:20230326T010000
END:DAYLIGHT
BEGIN:STANDARD
TZOFFSETFROM:+0200
TZOFFSETTO:+0100
TZNAME:CET
DTSTART:20231029T010000
END:STANDARD
BEGIN:DAYLIGHT
TZOFFSETFROM:+0100
TZOFFSETTO:+0200
TZNAME:CEST
DTSTART:20240331T010000
END:DAYLIGHT
BEGIN:STANDARD
TZOFFSETFROM:+0200
TZOFFSETTO:+0100
TZNAME:CET
DTSTART:20241027T010000
END:STANDARD
END:VTIMEZONE
BEGIN:VEVENT
DTSTART;TZID=Europe/Berlin:20231108T180000
DTEND;TZID=Europe/Berlin:20231108T210000
DTSTAMP:20260426T054715
CREATED:20231004T102959Z
LAST-MODIFIED:20231108T095946Z
UID:10001981-1699466400-1699477200@uv-bb.de
SUMMARY:Parlamentarischer Abend der Interessengemeinschaft der Unternehmerverbände Ostdeutschlands und Berlin am 08.11.23
DESCRIPTION:Mittelstand trifft PolitikTransformation der mittelständischen Wirtschaft in bewegten Zeiten – was unternimmt die Politik zur Verbesserung der Rahmenbedingungen angesichts Überregulierung\, Fachkräftemangel und Kostensteigerungen? \n\n\n\nPROGRAMMEröffnung – Dr. Burkhardt GreiffSprecher der Interessengemeinschaft und Präsident des Unternehmerverbandes Brandenburg-Berlin e.V. \n\n\n\nGrußwort – Jutta BieringerStaatssekretärin für Bundesangelegenheiten und Bevollmächtigte des Landes Meck­lenburg-Vorpommern beim Bund \n\n\n\nDatum: 08. November 2023Uhrzeit: 18 Uhr\, Einlass: 17 UhrOrt: Vertretung der Länder Mecklenburg-Vorpommern und Brandenburg\, In den Ministergärten 3\, 10117 Berlin \n\n\n\nWeitere Informationen \n\n\n\nFoto: IG
URL:https://uv-bb.de/event/parlamentarischer-abend-der-interessengemeinschaft-der-unternehmerverbaende-ostdeutschlands-und-berlin-am-08-11-23/
LOCATION:Landesvertretung Mecklenburg-Vorpommern / Brandenburg\, In den Ministergärten 3\, Berlin\, 10117\, Deutschland
CATEGORIES:Allgemein
ATTACH;FMTTYPE=image/png:https://uv-bb.de/wp-content/uploads/2021/05/Logo-IG.png
END:VEVENT
BEGIN:VEVENT
DTSTART;TZID=Europe/Berlin:20221123T180000
DTEND;TZID=Europe/Berlin:20221123T220000
DTSTAMP:20260426T054715
CREATED:20220922T075317Z
LAST-MODIFIED:20221017T100656Z
UID:10001910-1669226400-1669240800@uv-bb.de
SUMMARY:Parlamentarischer Abend der Interessengemeinschaft der Unternehmerverbände Ostdeutschlands und Berlin
DESCRIPTION:Bundestagsparteien zur Wirtschaftspolitik – Mittelstand in Ostdeutschland \n\n\n\n \n\n\n\nPROGRAMM: \n\n\n\nEröffnungDr. Burkhardt Greiff\, Sprecher der Interessengemeinschaftund Präsident des Unternehmer-verbandes Brandenburg-Berlin e.V. \n\n\n\nGrußwortJutta Bieringer\, Staatssekretärin für Bundesangelegenheiten und Bevollmächtigte des Landes Meck­lenburg-Vorpommern beim Bund \n\n\n\nImpulsCarsten Schneider\, MdB\, Staatsminister und Beauftragter der Bundesregierung für Ostdeutschland \n\n\n\nIm Anschluss Podiumsdiskussion mit– Dr. Dietmar Bartsch\, MdB (Die Linke)– Leif-Erik Holm\, MdB (AfD)– Dr. Paula Piechotta\, MdB (Die Grünen)– Hagen Reinhold\, MdB (FDP)– Jana Schimke\, MdB (CDU)– Carsten Schneider\, MdB (SPD) \n\n\n\nModerationAlexander Budweg\, Korrespondent im MDR Hauptstadtstudio \n\n\n\nAb ca. 20:00 Uhr Get-together. Hier stehen Bundestagsabgeordnete für Gespräche zur Verfügung Für Ihr leibliches Wohl ist natürlich gesorgt. \n\n\n\n \n\n\n\nWeitere Informationen folgen! \n\n\n\n\n\n\n\n\n\n\n\n \n\n\n\nAnmeldung \n\n\n\n	\n	\n	\n	\n    \n\n	    \n    \n        Anmeldungen sind für diese Veranstaltung geschlossen
URL:https://uv-bb.de/event/parlamentarischer-abend-der-interessengemeinschaft-der-unternehmerverbaende-ostdeutschlands-und-berlin-2/
LOCATION:Landesvertretung Mecklenburg-Vorpommern / Brandenburg\, In den Ministergärten 3\, Berlin\, 10117\, Deutschland
CATEGORIES:Allgemein
ATTACH;FMTTYPE=image/png:https://uv-bb.de/wp-content/uploads/2021/05/Logo-IG.png
END:VEVENT
END:VCALENDAR