BEGIN:VCALENDAR
VERSION:2.0
PRODID:-//UVBB - ECPv6.15.20//NONSGML v1.0//EN
CALSCALE:GREGORIAN
METHOD:PUBLISH
X-ORIGINAL-URL:https://uv-bb.de
X-WR-CALDESC:Veranstaltungen für UVBB
REFRESH-INTERVAL;VALUE=DURATION:PT1H
X-Robots-Tag:noindex
X-PUBLISHED-TTL:PT1H
BEGIN:VTIMEZONE
TZID:Europe/Berlin
BEGIN:DAYLIGHT
TZOFFSETFROM:+0100
TZOFFSETTO:+0200
TZNAME:CEST
DTSTART:20220327T010000
END:DAYLIGHT
BEGIN:STANDARD
TZOFFSETFROM:+0200
TZOFFSETTO:+0100
TZNAME:CET
DTSTART:20221030T010000
END:STANDARD
BEGIN:DAYLIGHT
TZOFFSETFROM:+0100
TZOFFSETTO:+0200
TZNAME:CEST
DTSTART:20230326T010000
END:DAYLIGHT
BEGIN:STANDARD
TZOFFSETFROM:+0200
TZOFFSETTO:+0100
TZNAME:CET
DTSTART:20231029T010000
END:STANDARD
BEGIN:DAYLIGHT
TZOFFSETFROM:+0100
TZOFFSETTO:+0200
TZNAME:CEST
DTSTART:20240331T010000
END:DAYLIGHT
BEGIN:STANDARD
TZOFFSETFROM:+0200
TZOFFSETTO:+0100
TZNAME:CET
DTSTART:20241027T010000
END:STANDARD
BEGIN:DAYLIGHT
TZOFFSETFROM:+0100
TZOFFSETTO:+0200
TZNAME:CEST
DTSTART:20250330T010000
END:DAYLIGHT
BEGIN:STANDARD
TZOFFSETFROM:+0200
TZOFFSETTO:+0100
TZNAME:CET
DTSTART:20251026T010000
END:STANDARD
END:VTIMEZONE
BEGIN:VEVENT
DTSTART;TZID=Europe/Berlin:20240625T090000
DTEND;TZID=Europe/Berlin:20240625T110000
DTSTAMP:20260421T153139
CREATED:20240612T112633Z
LAST-MODIFIED:20240612T114409Z
UID:10002042-1719306000-1719313200@uv-bb.de
SUMMARY:Unternehmerfrühstück in Spremberg - 25.06.24
DESCRIPTION:Hiermit laden wir Sie herzlich zu einem Unternehmerfrühstück in Spremberg/Spreetal ein. \n\n\n\nDas Unternehmerfrühstück legt den Fokus auf die Fördermöglichkeiten bei der Weiterbildung und fachlichen Qualifizierung von ausgebildeten Fachkräften. Dazu bieten wir Ihnen die Möglichkeit mit den direkten Ansprechpartnern ins Gespräch zu kommen\, um inividuelle Fragen zu stellen. \n\n\n\n25. Juni 202409.00 bis 11.00 UhrDock³ Lausitz | Südstraße 3\, 02979 Spreetal \n\n\n\nUnsere Gäste:Katja Bolz (WFBB | Projektmanagerin) – WeiterbildungsrichtlinieSylke Rau (Agentur für Arbeit) – Beschäftigtenqualifizierung seit 01.04.2024 \n\n\n\nFür eine passgenaue Planung des Unternehmerfrühstücks bitten wir um Ihre Anmeldung bisspätestens 14. Juni 2024 vorzugsweise per E-Mail an info@asg-spremberg.de \n\n\n\nEinladung als PDF \n\n\n\nFoto: pixabay
URL:https://uv-bb.de/event/unternehmerfruehstueck-in-spremberg-25-06-24/
LOCATION:Dock3\, Südstraße 3\, Spreetal\, 02979\, Deutschland
CATEGORIES:VB Süd
ATTACH;FMTTYPE=image/png:https://uv-bb.de/wp-content/uploads/2023/04/calendar-g31b60da5f_1280.png
END:VEVENT
BEGIN:VEVENT
DTSTART;TZID=Europe/Berlin:20231127T170000
DTEND;TZID=Europe/Berlin:20231127T190000
DTSTAMP:20260421T153139
CREATED:20231115T132336Z
LAST-MODIFIED:20231121T073453Z
UID:10001992-1701104400-1701111600@uv-bb.de
SUMMARY:Unternehmertreff im Industriepark Schwarze Pumpe am 27.11.23
DESCRIPTION:Wir möchten Sie herzlich zu unserem Unternehmertreff einladen. \n\n\n\nDatum: 27. November 2023\, ab 17 Uhr \n\n\n\nVeranstaltungsort: Dock3 Lausitz – Kompetenzzentrum für Gründer & Gewerbe im Industriepark Schwarze Pumpe\, Südstraße 3\, 02979 Spreetal (Anfahrtskizze) \n\n\n\nUnser neuer Vizepräsident für den Verbandsbezirk Südbrandenburg Herr Roland Peine wird sich und seine Arbeit im Industriepark Schwarze Pumpe vorstellen. \n\n\n\nZum Thema „Fachkräftemangel? – Nicht mit uns…“ möchten wir mit „Standort Lausitz UG Spremberg“ über mögliche Wege aus dem Fachkräftemangel sprechen und haben dazu den Geschäftsführer\, Herrn René Kuhle angefragt. \n\n\n\nNutzen Sie die Gelegenheit\, Informationen aus erster Hand zum Industriepark Schwarze Pumpe zu bekommen. \n\n\n\nFür das leiblich Wohl ist gesorgt. \n\n\n\nFoto: ASG – Tobias Ritz \n\n\n\n\n\n\n\n\n\n\n\nVerbindliche Anmeldung bis 23. November 2023 \n\n\n\n	\n	\n	\n	\n    \n\n	    \n    \n        Anmeldungen sind für diese Veranstaltung geschlossen
URL:https://uv-bb.de/event/unternehmertreff-im-industriepark-schwarze-pumpe-am-27-11-23/
LOCATION:Dock3\, Südstraße 3\, Spreetal\, 02979\, Deutschland
CATEGORIES:VB Süd
ATTACH;FMTTYPE=image/jpeg:https://uv-bb.de/wp-content/uploads/2023/11/Bild-Dock3-Schwarze-Pumpe-scaled.jpg
END:VEVENT
END:VCALENDAR