BEGIN:VCALENDAR
VERSION:2.0
PRODID:-//UVBB - ECPv6.15.20//NONSGML v1.0//EN
CALSCALE:GREGORIAN
METHOD:PUBLISH
X-ORIGINAL-URL:https://uv-bb.de
X-WR-CALDESC:Veranstaltungen für UVBB
REFRESH-INTERVAL;VALUE=DURATION:PT1H
X-Robots-Tag:noindex
X-PUBLISHED-TTL:PT1H
BEGIN:VTIMEZONE
TZID:Europe/Berlin
BEGIN:DAYLIGHT
TZOFFSETFROM:+0100
TZOFFSETTO:+0200
TZNAME:CEST
DTSTART:20240331T010000
END:DAYLIGHT
BEGIN:STANDARD
TZOFFSETFROM:+0200
TZOFFSETTO:+0100
TZNAME:CET
DTSTART:20241027T010000
END:STANDARD
BEGIN:DAYLIGHT
TZOFFSETFROM:+0100
TZOFFSETTO:+0200
TZNAME:CEST
DTSTART:20250330T010000
END:DAYLIGHT
BEGIN:STANDARD
TZOFFSETFROM:+0200
TZOFFSETTO:+0100
TZNAME:CET
DTSTART:20251026T010000
END:STANDARD
BEGIN:DAYLIGHT
TZOFFSETFROM:+0100
TZOFFSETTO:+0200
TZNAME:CEST
DTSTART:20260329T010000
END:DAYLIGHT
BEGIN:STANDARD
TZOFFSETFROM:+0200
TZOFFSETTO:+0100
TZNAME:CET
DTSTART:20261025T010000
END:STANDARD
BEGIN:DAYLIGHT
TZOFFSETFROM:+0100
TZOFFSETTO:+0200
TZNAME:CEST
DTSTART:20270328T010000
END:DAYLIGHT
BEGIN:STANDARD
TZOFFSETFROM:+0200
TZOFFSETTO:+0100
TZNAME:CET
DTSTART:20271031T010000
END:STANDARD
END:VTIMEZONE
BEGIN:VEVENT
DTSTART;TZID=Europe/Berlin:20260309T100000
DTEND;TZID=Europe/Berlin:20260309T120000
DTSTAMP:20260425T194839
CREATED:20260105T084212Z
LAST-MODIFIED:20260106T124713Z
UID:10002193-1773050400-1773057600@uv-bb.de
SUMMARY:UVBB - Teamsitzung VB Südbrandenburg am 09.03.26
DESCRIPTION:Änderungen vorbehalten! \n\n\n\nFoto: UVBB
URL:https://uv-bb.de/event/uvbb-teamsitzung-vb-sued-am-09-03-26/
LOCATION:Büro Cottbus\, Schillerstr. 71\, Cottbus\, 03046\, Deutschland
CATEGORIES:VB Süd
ATTACH;FMTTYPE=image/jpeg:https://uv-bb.de/wp-content/uploads/2019/11/LOGO_UVBB2019_RGB-square.jpg
END:VEVENT
BEGIN:VEVENT
DTSTART;TZID=Europe/Berlin:20260209T100000
DTEND;TZID=Europe/Berlin:20260209T120000
DTSTAMP:20260425T194839
CREATED:20251211T074333Z
LAST-MODIFIED:20260106T124635Z
UID:10001850-1770631200-1770638400@uv-bb.de
SUMMARY:UVBB - Teamsitzung VB Südbrandenburg am 09.02.26
DESCRIPTION:Änderungen vorbehalten! \n\n\n\nFoto: UVBB
URL:https://uv-bb.de/event/uvbb-teamsitzung-vb-sued-am-09-02-26/
LOCATION:Büro Cottbus\, Schillerstr. 71\, Cottbus\, 03046\, Deutschland
CATEGORIES:VB Süd
ATTACH;FMTTYPE=image/jpeg:https://uv-bb.de/wp-content/uploads/2019/11/cropped-LOGO_UVBB2019_RGB-square.jpg
END:VEVENT
BEGIN:VEVENT
DTSTART;TZID=Europe/Berlin:20251208T120000
DTEND;TZID=Europe/Berlin:20251208T130000
DTSTAMP:20260425T194839
CREATED:20251111T125908Z
LAST-MODIFIED:20251111T125910Z
UID:10002184-1765195200-1765198800@uv-bb.de
SUMMARY:Versorgungswerk des UVBB - Mitgliederversammlung am 08.12.25
DESCRIPTION:Änderungen vorbehalten! \n\n\n\nFoto: UVBB
URL:https://uv-bb.de/event/versorgungswerk-des-uvbb-mitgliederversammlung-am-08-12-25/
LOCATION:Büro Cottbus\, Schillerstr. 71\, Cottbus\, 03046\, Deutschland
CATEGORIES:Allgemein,Verbandsbezirke
ATTACH;FMTTYPE=image/jpeg:https://uv-bb.de/wp-content/uploads/2019/11/cropped-LOGO_UVBB2019_RGB-square.jpg
END:VEVENT
BEGIN:VEVENT
DTSTART;TZID=Europe/Berlin:20251208T100000
DTEND;TZID=Europe/Berlin:20251208T120000
DTSTAMP:20260425T194839
CREATED:20250107T095535Z
LAST-MODIFIED:20250107T095536Z
UID:10002113-1765188000-1765195200@uv-bb.de
SUMMARY:UVBB – Teamsitzung VB Südbrandenburg am 08.12.25
DESCRIPTION:Foto: UVBB
URL:https://uv-bb.de/event/uvbb-teamsitzung-vb-suedbrandenburg-am-08-12-25/
LOCATION:Büro Cottbus\, Schillerstr. 71\, Cottbus\, 03046\, Deutschland
CATEGORIES:VB Süd,Verbandsbezirke
ATTACH;FMTTYPE=image/jpeg:https://uv-bb.de/wp-content/uploads/2019/11/LOGO_UVBB2019_RGB-square.jpg
END:VEVENT
BEGIN:VEVENT
DTSTART;TZID=Europe/Berlin:20251006T100000
DTEND;TZID=Europe/Berlin:20251006T120000
DTSTAMP:20260425T194839
CREATED:20250107T095103Z
LAST-MODIFIED:20251001T114512Z
UID:10002112-1759744800-1759752000@uv-bb.de
SUMMARY:UVBB – Teamsitzung VB Südbrandenburg am 06.10.25
DESCRIPTION:Foto: UVBB
URL:https://uv-bb.de/event/uvbb-teamsitzung-vb-suedbrandenburg-am-13-10-25/
LOCATION:Büro Cottbus\, Schillerstr. 71\, Cottbus\, 03046\, Deutschland
CATEGORIES:VB Süd,Verbandsbezirke
ATTACH;FMTTYPE=image/jpeg:https://uv-bb.de/wp-content/uploads/2019/11/LOGO_UVBB2019_RGB-square.jpg
END:VEVENT
BEGIN:VEVENT
DTSTART;TZID=Europe/Berlin:20250908T100000
DTEND;TZID=Europe/Berlin:20250908T120000
DTSTAMP:20260425T194839
CREATED:20250107T094856Z
LAST-MODIFIED:20250107T094857Z
UID:10002111-1757325600-1757332800@uv-bb.de
SUMMARY:UVBB – Teamsitzung VB Südbrandenburg am 08.09.25
DESCRIPTION:Foto: UVBB
URL:https://uv-bb.de/event/uvbb-teamsitzung-vb-suedbrandenburg-am-08-09-25/
LOCATION:Büro Cottbus\, Schillerstr. 71\, Cottbus\, 03046\, Deutschland
CATEGORIES:VB Süd,Verbandsbezirke
ATTACH;FMTTYPE=image/jpeg:https://uv-bb.de/wp-content/uploads/2019/11/LOGO_UVBB2019_RGB-square.jpg
END:VEVENT
BEGIN:VEVENT
DTSTART;TZID=Europe/Berlin:20250512T100000
DTEND;TZID=Europe/Berlin:20250512T120000
DTSTAMP:20260425T194839
CREATED:20250107T093709Z
LAST-MODIFIED:20250107T093711Z
UID:10002110-1747044000-1747051200@uv-bb.de
SUMMARY:UVBB – Teamsitzung VB Südbrandenburg am 12.05.25
DESCRIPTION:Foto: UVBB
URL:https://uv-bb.de/event/uvbb-teamsitzung-vb-suedbrandenburg-am-12-05-25/
LOCATION:Büro Cottbus\, Schillerstr. 71\, Cottbus\, 03046\, Deutschland
CATEGORIES:VB Süd,Verbandsbezirke
ATTACH;FMTTYPE=image/jpeg:https://uv-bb.de/wp-content/uploads/2019/11/LOGO_UVBB2019_RGB-square.jpg
END:VEVENT
BEGIN:VEVENT
DTSTART;TZID=Europe/Berlin:20250414T100000
DTEND;TZID=Europe/Berlin:20250414T120000
DTSTAMP:20260425T194839
CREATED:20250107T093505Z
LAST-MODIFIED:20250107T093506Z
UID:10002109-1744624800-1744632000@uv-bb.de
SUMMARY:UVBB – Teamsitzung VB Südbrandenburg am 14.04.25
DESCRIPTION:Foto: UVBB
URL:https://uv-bb.de/event/uvbb-teamsitzung-vb-suedbrandenburg-am-14-04-25/
LOCATION:Büro Cottbus\, Schillerstr. 71\, Cottbus\, 03046\, Deutschland
CATEGORIES:VB Süd,Verbandsbezirke
ATTACH;FMTTYPE=image/jpeg:https://uv-bb.de/wp-content/uploads/2019/11/LOGO_UVBB2019_RGB-square.jpg
END:VEVENT
BEGIN:VEVENT
DTSTART;TZID=Europe/Berlin:20250314T100000
DTEND;TZID=Europe/Berlin:20250314T120000
DTSTAMP:20260425T194839
CREATED:20250107T093000Z
LAST-MODIFIED:20250227T091528Z
UID:10002108-1741946400-1741953600@uv-bb.de
SUMMARY:UVBB – Teamsitzung VB Südbrandenburg am 14.03.25
DESCRIPTION:Foto: UVBB
URL:https://uv-bb.de/event/uvbb-teamsitzung-vb-suedbrandenburg-am-10-03-25/
LOCATION:Büro Cottbus\, Schillerstr. 71\, Cottbus\, 03046\, Deutschland
CATEGORIES:VB Süd,Verbandsbezirke
ATTACH;FMTTYPE=image/jpeg:https://uv-bb.de/wp-content/uploads/2019/11/LOGO_UVBB2019_RGB-square.jpg
END:VEVENT
BEGIN:VEVENT
DTSTART;TZID=Europe/Berlin:20250210T100000
DTEND;TZID=Europe/Berlin:20250210T120000
DTSTAMP:20260425T194839
CREATED:20250107T092747Z
LAST-MODIFIED:20250107T092749Z
UID:10002107-1739181600-1739188800@uv-bb.de
SUMMARY:UVBB – Teamsitzung VB Südbrandenburg am 10.02.25
DESCRIPTION:Foto: UVBB
URL:https://uv-bb.de/event/uvbb-teamsitzung-vb-suedbrandenburg-am-10-02-25/
LOCATION:Büro Cottbus\, Schillerstr. 71\, Cottbus\, 03046\, Deutschland
CATEGORIES:VB Süd,Verbandsbezirke
ATTACH;FMTTYPE=image/jpeg:https://uv-bb.de/wp-content/uploads/2019/11/LOGO_UVBB2019_RGB-square.jpg
END:VEVENT
BEGIN:VEVENT
DTSTART;TZID=Europe/Berlin:20250113T100000
DTEND;TZID=Europe/Berlin:20250113T120000
DTSTAMP:20260425T194839
CREATED:20241213T112224Z
LAST-MODIFIED:20250107T092447Z
UID:10002090-1736762400-1736769600@uv-bb.de
SUMMARY:UVBB - Teamsitzung VB Südbrandenburg am 13.01.25
DESCRIPTION:Foto: UVBB
URL:https://uv-bb.de/event/uvbb-teamsitzung-vb-suedbrandenburg-am-13-01-25/
LOCATION:Büro Cottbus\, Schillerstr. 71\, Cottbus\, 03046\, Deutschland
CATEGORIES:VB Süd,Verbandsbezirke
ATTACH;FMTTYPE=image/jpeg:https://uv-bb.de/wp-content/uploads/2019/11/LOGO_UVBB2019_RGB-square.jpg
END:VEVENT
END:VCALENDAR