BEGIN:VCALENDAR
VERSION:2.0
PRODID:-//UVBB - ECPv6.15.20//NONSGML v1.0//EN
CALSCALE:GREGORIAN
METHOD:PUBLISH
X-ORIGINAL-URL:https://uv-bb.de
X-WR-CALDESC:Veranstaltungen für UVBB
REFRESH-INTERVAL;VALUE=DURATION:PT1H
X-Robots-Tag:noindex
X-PUBLISHED-TTL:PT1H
BEGIN:VTIMEZONE
TZID:Europe/Berlin
BEGIN:DAYLIGHT
TZOFFSETFROM:+0100
TZOFFSETTO:+0200
TZNAME:CEST
DTSTART:20250330T010000
END:DAYLIGHT
BEGIN:STANDARD
TZOFFSETFROM:+0200
TZOFFSETTO:+0100
TZNAME:CET
DTSTART:20251026T010000
END:STANDARD
BEGIN:DAYLIGHT
TZOFFSETFROM:+0100
TZOFFSETTO:+0200
TZNAME:CEST
DTSTART:20260329T010000
END:DAYLIGHT
BEGIN:STANDARD
TZOFFSETFROM:+0200
TZOFFSETTO:+0100
TZNAME:CET
DTSTART:20261025T010000
END:STANDARD
BEGIN:DAYLIGHT
TZOFFSETFROM:+0100
TZOFFSETTO:+0200
TZNAME:CEST
DTSTART:20270328T010000
END:DAYLIGHT
BEGIN:STANDARD
TZOFFSETFROM:+0200
TZOFFSETTO:+0100
TZNAME:CET
DTSTART:20271031T010000
END:STANDARD
END:VTIMEZONE
BEGIN:VEVENT
DTSTART;TZID=Europe/Berlin:20260421T090000
DTEND;TZID=Europe/Berlin:20260421T110000
DTSTAMP:20260420T092457
CREATED:20260319T121019Z
LAST-MODIFIED:20260320T094456Z
UID:10002244-1776762000-1776769200@uv-bb.de
SUMMARY:ASG Spremberg: Fachkräfte finden - neue Wege entdecken am 21.04.26
DESCRIPTION:Zum ersten Unternehmerfrühstück im Jahr 2026 in Spremberg/Spreetal lädt die ASG Spremberg GmbH als lokaler Wirtschaftsförderer Unternehmerinnen und Unternehmer ein.  \n\n\n\nBei der Veranstaltung am 21. April 2026 steht das Thema „Fachkräfte finden – neue Wege entdecken“ im Mittelpunkt.  \n\n\n\nBeginn ist um 9 Uhr in den Räumen des Dock3 Lausitz an der Südstraße 3 in 02979 Spreetal. \n\n\n\nDer Wettbewerb um Fachkräfte wird immer intensiver – gerade in der Region Lausitz. Beim Unternehmerfrühstück wird ein Blick auf neue Wege der Fachkräftegewinnung – auch mit Unterstützung von Künstlicher Intelligez (KI) und Social Media – geworfen. Teilnehmerinnen und Teilnehmer erfahren dabei\, warum die Herausforderungen besonders spürbar sind und welche kostenfreien Unterstützungsangebote es gibt. \n\n\n\nZudem bietet sich die Gelegenheit zum Austausch mit anderen Unternehmerinnen und Unternehmern. \n\n\n\nDie Gäste beim Unternehmerfrühstück sind: Emmanuel Bernhardt und Denise Gramß (Forschungsinstitut Betriebliche Bildung gGmbH) – Mensch im Fokus. Fachkräftegewinnung KI-gestützt gestalten  \n\n\n\nFür eine passgenaue Planung des Unternehmerfrühstücks wird um eine Anmeldung bis spätestens 10. April 2026 gebeten – vorzugsweise per E-Mail an info@asg-spremberg.de. \n\n\n\nQuelle: ASG Spremberg – Newsletter
URL:https://uv-bb.de/event/asg-spremberg-fachkraefte-finden-neue-wege-entdecken-am-21-04-26/
CATEGORIES:Allgemein,Verbandsbezirke
ATTACH;FMTTYPE=image/jpeg:https://uv-bb.de/wp-content/uploads/2026/03/Logo-ASG-Spremberg.jpg
END:VEVENT
BEGIN:VEVENT
DTSTART;TZID=Europe/Berlin:20260423T193000
DTEND;TZID=Europe/Berlin:20260423T213000
DTSTAMP:20260420T092457
CREATED:20260325T081404Z
LAST-MODIFIED:20260325T104832Z
UID:10002247-1776972600-1776979800@uv-bb.de
SUMMARY:Elster-Stüble: Datensicherheit & Datenschutz am 23.04.26
DESCRIPTION:Datensicherheit & Datenschutz für Privatpersonen \n\n\n\nDer Schutz persönlicher Daten und die Sicherstellung der Datensicherheit sind für Privatpersonen von großer Bedeutung. In unserer heutigen digitalen Welt ist es essenziell\, dass individuelle Informationen vor unbefugtem Zugriff und Missbrauch geschützt werden. Die Einhaltung der Datenschutzvorgaben trägt dazu bei\, persönliche Daten zu sichern und das Vertrauen in digitale Dienste zu stärken. \n\n\n\nSollten Sie Fragen haben oder eine persönliche Beratung wünschen\, wenden Sie sich bitte an unser UVBB-Mitglied: Frau Dorothee Zopp\, Telefon: 03531-6093300
URL:https://uv-bb.de/event/elster-stueble-datensicherheit-datenschutz-am-23-04-26/
CATEGORIES:Allgemein
ATTACH;FMTTYPE=image/png:https://uv-bb.de/wp-content/uploads/2025/09/Newsletter-2025-September-Neues-Mitglied-Elster-Stueble-Fr.-Zopp-Bild-2.png
END:VEVENT
END:VCALENDAR