BEGIN:VCALENDAR
VERSION:2.0
PRODID:-//UVBB - ECPv6.15.20//NONSGML v1.0//EN
CALSCALE:GREGORIAN
METHOD:PUBLISH
X-ORIGINAL-URL:https://uv-bb.de
X-WR-CALDESC:Veranstaltungen für UVBB
REFRESH-INTERVAL;VALUE=DURATION:PT1H
X-Robots-Tag:noindex
X-PUBLISHED-TTL:PT1H
BEGIN:VTIMEZONE
TZID:Europe/Berlin
BEGIN:DAYLIGHT
TZOFFSETFROM:+0100
TZOFFSETTO:+0200
TZNAME:CEST
DTSTART:20250330T010000
END:DAYLIGHT
BEGIN:STANDARD
TZOFFSETFROM:+0200
TZOFFSETTO:+0100
TZNAME:CET
DTSTART:20251026T010000
END:STANDARD
BEGIN:DAYLIGHT
TZOFFSETFROM:+0100
TZOFFSETTO:+0200
TZNAME:CEST
DTSTART:20260329T010000
END:DAYLIGHT
BEGIN:STANDARD
TZOFFSETFROM:+0200
TZOFFSETTO:+0100
TZNAME:CET
DTSTART:20261025T010000
END:STANDARD
BEGIN:DAYLIGHT
TZOFFSETFROM:+0100
TZOFFSETTO:+0200
TZNAME:CEST
DTSTART:20270328T010000
END:DAYLIGHT
BEGIN:STANDARD
TZOFFSETFROM:+0200
TZOFFSETTO:+0100
TZNAME:CET
DTSTART:20271031T010000
END:STANDARD
END:VTIMEZONE
BEGIN:VEVENT
DTSTART;TZID=Europe/Berlin:20260701T120000
DTEND;TZID=Europe/Berlin:20260701T130000
DTSTAMP:20260425T182148
CREATED:20260105T101933Z
LAST-MODIFIED:20260106T132400Z
UID:10002208-1782907200-1782910800@uv-bb.de
SUMMARY:UVBB - Sitzung der Vizepräsidenten am 01.07.26\, Zoom
DESCRIPTION:Änderungen vorbehalten! \n\n\n\nFoto: UVBB
URL:https://uv-bb.de/event/uvbb-sitzung-der-vizepraesidenten-am-01-07-26-zoom/
CATEGORIES:Allgemein
ATTACH;FMTTYPE=image/jpeg:https://uv-bb.de/wp-content/uploads/2019/11/LOGO_UVBB2019_RGB-square.jpg
END:VEVENT
BEGIN:VEVENT
DTSTART;TZID=Europe/Berlin:20260706T130000
DTEND;TZID=Europe/Berlin:20260706T143000
DTSTAMP:20260425T182148
CREATED:20260105T102259Z
LAST-MODIFIED:20260106T132507Z
UID:10002209-1783342800-1783348200@uv-bb.de
SUMMARY:UVBB - Teamsitzung VB Westbrandenburg am 06.07.26\, Zoom
DESCRIPTION:Änderungen vorbehalten! \n\n\n\nFoto: UVBB
URL:https://uv-bb.de/event/uvbb-teamsitzung-vb-westbrandenburg-am-06-07-26-zoom/
CATEGORIES:VB West
ATTACH;FMTTYPE=image/jpeg:https://uv-bb.de/wp-content/uploads/2019/11/LOGO_UVBB2019_RGB-square.jpg
END:VEVENT
BEGIN:VEVENT
DTSTART;TZID=Europe/Berlin:20260707T180000
DTEND;TZID=Europe/Berlin:20260707T200000
DTSTAMP:20260425T182148
CREATED:20260106T095001Z
LAST-MODIFIED:20260106T132551Z
UID:10001870-1783447200-1783454400@uv-bb.de
SUMMARY:Potsdamer Gespräche am 07.07.26
DESCRIPTION:Weitere Informationen folgen! \n\n\n\nÄnderungen vorbehalten! \n\n\n\nFoto: KI generiert
URL:https://uv-bb.de/event/potsdamer-gespraeche-am-07-07-26/
LOCATION:BARMER\, Friedrich-Ebert-Straße 8 (Wilhelmgalerie)\, Potsdam\, Brandenburg\, 14467\, Deutschland
CATEGORIES:VB West
ATTACH;FMTTYPE=image/jpeg:https://uv-bb.de/wp-content/uploads/2026/01/Logo-Potsdamer-Gespraeche-neu.jpeg
END:VEVENT
BEGIN:VEVENT
DTSTART;TZID=Europe/Berlin:20260713T100000
DTEND;TZID=Europe/Berlin:20260713T120000
DTSTAMP:20260425T182148
CREATED:20260105T102708Z
LAST-MODIFIED:20260106T132904Z
UID:10002210-1783936800-1783944000@uv-bb.de
SUMMARY:UVBB - Teamsitzung VB Südbrandenburg am 13.07.26
DESCRIPTION:Änderungen vorbehalten! \n\n\n\nFoto: UVBB
URL:https://uv-bb.de/event/uvbb-teamsitzung-vb-suedbrandenburg-am-13-07-26/
LOCATION:Büro Cottbus\, Schillerstr. 71\, Cottbus\, 03046\, Deutschland
CATEGORIES:VB Süd
ATTACH;FMTTYPE=image/jpeg:https://uv-bb.de/wp-content/uploads/2026/01/Logo-UV-BB.jpg
END:VEVENT
END:VCALENDAR