BEGIN:VCALENDAR
VERSION:2.0
PRODID:-//UVBB - ECPv6.15.20//NONSGML v1.0//EN
CALSCALE:GREGORIAN
METHOD:PUBLISH
X-WR-CALNAME:UVBB
X-ORIGINAL-URL:https://uv-bb.de
X-WR-CALDESC:Veranstaltungen für UVBB
REFRESH-INTERVAL;VALUE=DURATION:PT1H
X-Robots-Tag:noindex
X-PUBLISHED-TTL:PT1H
BEGIN:VTIMEZONE
TZID:Europe/Berlin
BEGIN:DAYLIGHT
TZOFFSETFROM:+0100
TZOFFSETTO:+0200
TZNAME:CEST
DTSTART:20250330T010000
END:DAYLIGHT
BEGIN:STANDARD
TZOFFSETFROM:+0200
TZOFFSETTO:+0100
TZNAME:CET
DTSTART:20251026T010000
END:STANDARD
BEGIN:DAYLIGHT
TZOFFSETFROM:+0100
TZOFFSETTO:+0200
TZNAME:CEST
DTSTART:20260329T010000
END:DAYLIGHT
BEGIN:STANDARD
TZOFFSETFROM:+0200
TZOFFSETTO:+0100
TZNAME:CET
DTSTART:20261025T010000
END:STANDARD
BEGIN:DAYLIGHT
TZOFFSETFROM:+0100
TZOFFSETTO:+0200
TZNAME:CEST
DTSTART:20270328T010000
END:DAYLIGHT
BEGIN:STANDARD
TZOFFSETFROM:+0200
TZOFFSETTO:+0100
TZNAME:CET
DTSTART:20271031T010000
END:STANDARD
END:VTIMEZONE
BEGIN:VEVENT
DTSTART;TZID=Europe/Berlin:20260302T130000
DTEND;TZID=Europe/Berlin:20260302T143000
DTSTAMP:20260420T105234
CREATED:20251211T074709Z
LAST-MODIFIED:20260106T130057Z
UID:10002189-1772456400-1772461800@uv-bb.de
SUMMARY:UVBB - Teamsitzung VB Westbrandenburg am 02.03.26\, Zoom
DESCRIPTION:Änderungen vorbehalten! \n\n\n\nFoto: UVBB
URL:https://uv-bb.de/event/uvbb-teamsitzung-vb-west-am-02-03-26/
CATEGORIES:VB West
ATTACH;FMTTYPE=image/jpeg:https://uv-bb.de/wp-content/uploads/2019/11/cropped-LOGO_UVBB2019_RGB-square.jpg
END:VEVENT
BEGIN:VEVENT
DTSTART;TZID=Europe/Berlin:20260302T180000
DTEND;TZID=Europe/Berlin:20260302T203000
DTSTAMP:20260420T105234
CREATED:20260114T105139Z
LAST-MODIFIED:20260128T121016Z
UID:10002226-1772474400-1772483400@uv-bb.de
SUMMARY:Wahlforum zur Landratswahl des Landkreises Spree-Neiße am 02.03.26
DESCRIPTION:Am 08.03.2026 wählen die Einwohner des Landkreises SPN eine neue Landrätin oder einen neuen Landrat. Wir bieten Ihnen zwei Wahlforen an. \n\n\n\n1. Do.\, 19.02.2026\, 18.00 Uhr\, Flugplatz Drewitz (Gral) \n\n\n\n2. Mo.\, 02.03.2026\, 18.00 Uhr\, Drebkau (Bürgerhaus Kausche) – zur Anmeldung \n\n\n\nInsgesamt stellen sich vier Kandidaten zur Wahl: \n\n\n\n\nHeiko Jahn (SPD)\, Geschäftsführer der Wirtschaftsregion Lausitz GmbH (WRL). War zuvor Dezernent im Landkreis Dahme-Spreewald tätig und kümmerte sich in dieser Funktion um die Bereiche Wirtschaft\, Finanzen\, Sicherheit\, Kreisentwicklung und europäische Kooperationen. Sein Berufsleben hatte Jahn einst als Schweißer in den Braunkohlekraftwerken der Lausitz begonnen.\n\n\n\nMartin Heusler (CDU\, unterstützt von der FDP Lausitz)\, ist Stabsoffizier der Reserve und derzeit beim Energiekonzern Leag tätig\, bei dem er das Konferenzcenter Spreewald in Lübbenau leitet. Gründer von QLEE (Qualifizierungsverbund in der Lausitz für Erneuerbare Energien)\n\n\n\nChristine Beyer (AfD)\, kommt aus der Wirtschaft und arbeitet als Produktionsmanagerin. Zudem ist sie Abgeordnete im Kreistag Spree-Neiße und Stadtverordnete in Forst.\n\n\n\nRobert Hanschke (Die PARTEI)\, Lehrer\n\n\n\n\nDer bisherige Landrat Harald Altekrüger tritt aus Altersgründen nicht mehr an. \n\n\n\nDamit Sie sich einen umfassenden Eindruck über die Qualitäten und Eigenschaften der Bewerber verschaffen können\, haben wir für Sie zwei Wahlforen organisiert. Zunächst werden die Kandidaten zu wirtschaftspolitischen Themen des Landkreises befragt. Hier geht es z.B. darum\, welche Visionen und Strategien sie für die wirtschaftliche Entwicklung des Landkreises haben\, wie sie der prognostizierten negativen Demographieentwicklung entgegenwirken werden und welche Schwerpunkte sie in ihrer zukünftigen Funktion setzen werden. Die Themen Net Zero Valley\, Energiewirtschaft\, Bürokratieabbau& Digitalisierung und Fachkräftemangel werden Inhalte der Diskussion sein. Sehr gern können Sie auch Ihre ganz individuellen Fragen stellen. Für Getränke und Imbiss ist gesorgt. \n\n\n\n \n\n\n\nFoto: UVBB
URL:https://uv-bb.de/event/wahlforum-landrat-spree-neisse-am-02-03-26/
LOCATION:Bürgerhaus Kausche\, An den Steien 7\, Drebkau / Kausche\, 03116\, Deutschland
CATEGORIES:VB Süd
ATTACH;FMTTYPE=image/jpeg:https://uv-bb.de/wp-content/uploads/2026/01/Logo-UV-BB.jpg
END:VEVENT
BEGIN:VEVENT
DTSTART;TZID=Europe/Berlin:20260303T180000
DTEND;TZID=Europe/Berlin:20260303T200000
DTSTAMP:20260420T105234
CREATED:20260106T094452Z
LAST-MODIFIED:20260225T095428Z
UID:10001868-1772560800-1772568000@uv-bb.de
SUMMARY:Potsdamer Gespräche am 03.03.26
DESCRIPTION:Auch im Jahr 2026 möchten wir die Veranstaltungsreihe der „Potsdamer Gespräche“ im Unternehmerverband Brandenburg-Berlin (UVBB) fortsetzen. Die Gespräche sind ein wichtiger Bestandteil unseres Netzwerkes und bieten Gelegenheit zum Austausch und zur Diskussion aktueller Themen.  \n\n\n\nFür die erste Veranstaltung in diesem Jahr freuen wir uns besonders\, Frau Noosha Aubel\, die Oberbürgermeisterin der Landeshauptstadt Potsdam\, als Gast begrüßen zu dürfen. Der Termin am 03. März 2026 fällt auf den 130. Tag ihrer Amtszeit und ist somit ein bedeutender Meilenstein. Wir erwarten mit Spannung ihren Einblick und Rückblick auf die ersten Monate im neuen Amt und freuen uns darauf\, gemeinsam mit ihr über die bisherigen Entwicklungen und Erfahrungen zu sprechen. \n\n\n\nDatum / Uhrzeit: 03. März 2026\, 18 Uhr (Einlass ab 17.45 Uhr) \n\n\n\nOrt:BARMER\, Friedrich-Ebert-Str. 8\, 14467 Potsdam (Wilhelmgalerie)\, 2. OG\, Veranstaltungsbereich der BARMER \n\n\n\nFolgender Ablauf ist angedacht:18:00 Uhr – Begrüßung18:15 Uhr – Impulsvortrag Noosha Aubel\, Oberbürgermeisterin der Landeshauptstadt Potsdam18:45 Uhr – offenes Netzwerken bei einem kleinen Imbiss \n\n\n\nLeider ist eine Anmeldung zu dieser Veranstaltung aktuell nicht mehr möglich\, da die verfügbaren Plätze bereits vergeben wurden.Wir bitten um Ihr Verständnis und danken Ihnen für Ihr Interesse an der Veranstaltung. \n\n\n\nNico Danneberg1. Vizepräsident VB Westbrandenburg \n\n\n\nFoto: KI generiert
URL:https://uv-bb.de/event/potsdamer-gespraeche-am-03-03-26/
LOCATION:BARMER\, Friedrich-Ebert-Straße 8 (Wilhelmgalerie)\, Potsdam\, Brandenburg\, 14467\, Deutschland
CATEGORIES:VB West
ATTACH;FMTTYPE=image/jpeg:https://uv-bb.de/wp-content/uploads/2026/01/Logo-Potsdamer-Gespraeche-neu.jpeg
END:VEVENT
BEGIN:VEVENT
DTSTART;TZID=Europe/Berlin:20260304T120000
DTEND;TZID=Europe/Berlin:20260304T130000
DTSTAMP:20260420T105234
CREATED:20251211T075002Z
LAST-MODIFIED:20260105T085042Z
UID:10002191-1772625600-1772629200@uv-bb.de
SUMMARY:UVBB - Sitzung der Vizepräsidenten am 04.03.26\, Zoom
DESCRIPTION:Änderungen vorbehalten! \n\n\n\nFoto: UVBB
URL:https://uv-bb.de/event/uvbb-sitzung-der-vizepraesidenten-am-04-03-26-zoom/
CATEGORIES:Allgemein
ATTACH;FMTTYPE=image/jpeg:https://uv-bb.de/wp-content/uploads/2019/11/cropped-LOGO_UVBB2019_RGB-square.jpg
END:VEVENT
BEGIN:VEVENT
DTSTART;TZID=Europe/Berlin:20260304T170000
DTEND;TZID=Europe/Berlin:20260304T190000
DTSTAMP:20260420T105234
CREATED:20251211T080616Z
LAST-MODIFIED:20260225T081431Z
UID:10002190-1772643600-1772650800@uv-bb.de
SUMMARY:Industriemuseum: Mitgliederversammlung am 04.03.26
DESCRIPTION:Foto: Industriemuseum Region Teltow
URL:https://uv-bb.de/event/industriemuseum-mitgliederversammlung-am-04-03-26/
LOCATION:Industriemuseum Region Teltow e.V.\, Oderstraße 23-25\, Teltow\, Brandenburg\, 14513\, Deutschland
CATEGORIES:VB West
ATTACH;FMTTYPE=image/png:https://uv-bb.de/wp-content/uploads/2025/02/Logo-IMT-Webseite_2025.png
END:VEVENT
BEGIN:VEVENT
DTSTART;TZID=Europe/Berlin:20260309T100000
DTEND;TZID=Europe/Berlin:20260309T120000
DTSTAMP:20260420T105234
CREATED:20260105T084212Z
LAST-MODIFIED:20260106T124713Z
UID:10002193-1773050400-1773057600@uv-bb.de
SUMMARY:UVBB - Teamsitzung VB Südbrandenburg am 09.03.26
DESCRIPTION:Änderungen vorbehalten! \n\n\n\nFoto: UVBB
URL:https://uv-bb.de/event/uvbb-teamsitzung-vb-sued-am-09-03-26/
LOCATION:Büro Cottbus\, Schillerstr. 71\, Cottbus\, 03046\, Deutschland
CATEGORIES:VB Süd
ATTACH;FMTTYPE=image/jpeg:https://uv-bb.de/wp-content/uploads/2019/11/LOGO_UVBB2019_RGB-square.jpg
END:VEVENT
BEGIN:VEVENT
DTSTART;TZID=Europe/Berlin:20260315T150000
DTEND;TZID=Europe/Berlin:20260315T173000
DTSTAMP:20260420T105234
CREATED:20260105T085551Z
LAST-MODIFIED:20260105T085555Z
UID:10002194-1773586800-1773595800@uv-bb.de
SUMMARY:Industriemuseum: Teltower MuSeumsmärz am 15.03.26
DESCRIPTION:Weitere Informationen folgen! \n\n\n\nFoto: Industriemuseum Region Teltow e.V.
URL:https://uv-bb.de/event/industriemuseum-teltower-museumsmaerz-am-15-03-26/
LOCATION:Industriemuseum Region Teltow e.V.\, Oderstraße 23-25\, Teltow\, Brandenburg\, 14513\, Deutschland
CATEGORIES:VB West
ATTACH;FMTTYPE=image/png:https://uv-bb.de/wp-content/uploads/2025/02/Logo-IMT-Webseite_2025.png
END:VEVENT
BEGIN:VEVENT
DTSTART;TZID=Europe/Berlin:20260317T093000
DTEND;TZID=Europe/Berlin:20260317T110000
DTSTAMP:20260420T105234
CREATED:20260210T114157Z
LAST-MODIFIED:20260303T081212Z
UID:10001895-1773739800-1773745200@uv-bb.de
SUMMARY:Unternehmerfrühstück VB Südbrandenburg am 17.03.26
DESCRIPTION:Wir laden Sie herzlich zum Unternehmerfrühstück des Verbandsbezirks Südbrandenburg ein.  \n\n\n\nDatum / Uhrzeit:Dienstag\, den 17. März 2026 von 9:30 bis 11:00 Uhr \n\n\n\nOrt:Flugplatzbetriebsgesellschaft Welzow mbH\, Flugplatz\, 03119 WelzowZufahrt von Osten\, ab Welzow Stadt \n\n\n\n \n\n\n\nGesprächsthemen zur Information und zum Netzwerken: \n\n\n\nFlugplatz Welzow – Aktuell und ZukunftsvorhabenFrank Steckling\, Flugplatzbetriebsgesellschaft Welzow mbH \n\n\n\n\n\n\n\nWelche Vorteile bringt die Signal-Iduna für UnternehmenVolker Sagitz\, Signal Iduna \n\n\n\nUnternehmensförderung „Unternehmen Revier“ und Blick und die ZukunftNorman Müller / Andreas Elsner\, Wirtschaftsregion Lausitz \n\n\n\nWir freuen uns auf Sie und bitten um Ihre verbindliche Anmeldung bis zum 13. März 2026 über cottbus@uv-bb.de oder nutzen Sie bitte den Link weiter unten. \n\n\n\nDie Teilnahme ist kostenlos. \n\n\n\nMit freundlichen Grüßen \n\n\n\nHorst BöschowMitglied des PräsidiumsRegionalmanager Verbandsbezirk Südbrandenburg \n\n\n\nÄnderungen vorbehalten! \n\n\n\nFoto: UVBB e.V. \n\n\n\n\n\n\n\n\n\n\n\n \n\n\n\nUm verbindliche Anmeldung bis zum 13. März 2026 wird gebeten \n\n\n\n	\n	\n	\n	\n    \n\n	    \n    \n        Anmeldungen sind für diese Veranstaltung geschlossen
URL:https://uv-bb.de/event/unternehmerfruehstueck-vb-sued-am-17-03-26/
LOCATION:Flugplatzbetriebsgesellschaft Welzow mbH\, Flugplatz\, Welzow\, 03119\, Germany
CATEGORIES:Allgemein,VB Süd
ATTACH;FMTTYPE=image/jpeg:https://uv-bb.de/wp-content/uploads/2026/01/Logo-UV-BB.jpg
END:VEVENT
BEGIN:VEVENT
DTSTART;TZID=Europe/Berlin:20260321T100000
DTEND;TZID=Europe/Berlin:20260321T160000
DTSTAMP:20260420T105234
CREATED:20260105T085942Z
LAST-MODIFIED:20260225T081743Z
UID:10002195-1774087200-1774108800@uv-bb.de
SUMMARY:Industriemuseum: Erlebnistag für Schüler/innen -  Lernen durch selber machen am 21.03.26
DESCRIPTION:Weitere Informationen \n\n\n\nFoto: Industriemuseum Region Teltow e.V.
URL:https://uv-bb.de/event/industriemuseum-erlebnistag-lernen-durch-selber-machen-am-21-03-26/
CATEGORIES:VB West
ATTACH;FMTTYPE=image/png:https://uv-bb.de/wp-content/uploads/2025/02/Logo-IMT-Webseite_2025.png
END:VEVENT
BEGIN:VEVENT
DTSTART;TZID=Europe/Berlin:20260326T180000
DTEND;TZID=Europe/Berlin:20260326T203000
DTSTAMP:20260420T105234
CREATED:20260312T084756Z
LAST-MODIFIED:20260331T072516Z
UID:10002243-1774548000-1774557000@uv-bb.de
SUMMARY:Vereinigung Wirtschaftshof Spandau: Wirtschaftshof-Treff am 26.03.26
DESCRIPTION:Liebe Unternehmerinnen und Unternehmer\,liebe Freunde der Vereinigung Wirtschaftshof Spandau\, \n\n\n\nwir laden Sie herzlich zu unserem nächsten Wirtschaftshof-Treff am Donnerstag\, den 26.03.2026 im Restaurant qnorke ein. \n\n\n\nDetails entnehmen Sie bitte der Einladung. \n\n\n\nWir freuen uns auf Sie!Beste Grüße \n\n\n\nJulia RothGeschäftsstellenleiterin \n\n\n\nVereinigung Wirtschaftshof Spandau e. V.& Stiftung WirtschaftshofBreite Str. 37\, 13597 BerlinTel.: 030 / 333 65 91www.wirtschaftshof-spandau.de \n\n\n\nFoto: Vereinigung Wirtschaftshof Spandau
URL:https://uv-bb.de/event/vereinigung-wirtschaftshof-spandau-wirtschaftshof-treff-am-26-03-26/
CATEGORIES:Allgemein
ATTACH;FMTTYPE=image/png:https://uv-bb.de/wp-content/uploads/2026/03/Logo-Vereinigung-Wirtschaftshof-Spandau-scaled.png
END:VEVENT
BEGIN:VEVENT
DTSTART;TZID=Europe/Berlin:20260326T193000
DTEND;TZID=Europe/Berlin:20260326T213000
DTSTAMP:20260420T105234
CREATED:20260325T075948Z
LAST-MODIFIED:20260325T075951Z
UID:10002246-1774553400-1774560600@uv-bb.de
SUMMARY:Elster-Stüble: Künstliche Intelligenz & ChatGPT am 26.03.26
DESCRIPTION:Künstliche Intelligenz & ChatGPT im Alltag – sicher nutzen \n\n\n\nKünstliche Intelligenz (KI) und insbesondere Tools wie ChatGPT spielen eine zunehmende Rolle im täglichen Leben. Der sichere Umgang mit diesen Technologien ist entscheidend\, um die Vorteile optimal zu nutzen und potenzielle Risiken zu vermeiden. \n\n\n\nFür weiterführende Details und Hinweise zur sicheren Nutzung von KI und ChatGPT im Alltag steht die folgende Informationsquelle zur Verfügung. \n\n\n\nFür Rückfragen oder persönliche Beratung wenden Sie sich bitte an unser UVBB-Mitglied: Frau Dorothee Zopp\, 03531-6093300
URL:https://uv-bb.de/event/elster-stueble-kuenstliche-intelligenz-chatgpt-am-26-03-26/
CATEGORIES:Allgemein
ATTACH;FMTTYPE=image/png:https://uv-bb.de/wp-content/uploads/2025/09/Newsletter-2025-September-Neues-Mitglied-Elster-Stueble-Fr.-Zopp-Bild-2.png
END:VEVENT
END:VCALENDAR