BEGIN:VCALENDAR
VERSION:2.0
PRODID:-//UVBB - ECPv6.15.20//NONSGML v1.0//EN
CALSCALE:GREGORIAN
METHOD:PUBLISH
X-WR-CALNAME:UVBB
X-ORIGINAL-URL:https://uv-bb.de
X-WR-CALDESC:Veranstaltungen für UVBB
REFRESH-INTERVAL;VALUE=DURATION:PT1H
X-Robots-Tag:noindex
X-PUBLISHED-TTL:PT1H
BEGIN:VTIMEZONE
TZID:Europe/Berlin
BEGIN:DAYLIGHT
TZOFFSETFROM:+0100
TZOFFSETTO:+0200
TZNAME:CEST
DTSTART:20240331T010000
END:DAYLIGHT
BEGIN:STANDARD
TZOFFSETFROM:+0200
TZOFFSETTO:+0100
TZNAME:CET
DTSTART:20241027T010000
END:STANDARD
BEGIN:DAYLIGHT
TZOFFSETFROM:+0100
TZOFFSETTO:+0200
TZNAME:CEST
DTSTART:20250330T010000
END:DAYLIGHT
BEGIN:STANDARD
TZOFFSETFROM:+0200
TZOFFSETTO:+0100
TZNAME:CET
DTSTART:20251026T010000
END:STANDARD
BEGIN:DAYLIGHT
TZOFFSETFROM:+0100
TZOFFSETTO:+0200
TZNAME:CEST
DTSTART:20260329T010000
END:DAYLIGHT
BEGIN:STANDARD
TZOFFSETFROM:+0200
TZOFFSETTO:+0100
TZNAME:CET
DTSTART:20261025T010000
END:STANDARD
END:VTIMEZONE
BEGIN:VEVENT
DTSTART;TZID=Europe/Berlin:20251201T130000
DTEND;TZID=Europe/Berlin:20251201T140000
DTSTAMP:20260425T194419
CREATED:20250107T083029Z
LAST-MODIFIED:20250107T085123Z
UID:10002106-1764594000-1764597600@uv-bb.de
SUMMARY:UVBB - Teamsitzung VB Westbrandenburg am 01.12.25\, Zoom
DESCRIPTION:Foto: UVBB
URL:https://uv-bb.de/event/uvbb-teamberatung-vb-westbrandenburg-am-01-12-25-zoom/
CATEGORIES:VB West,Verbandsbezirke
ATTACH;FMTTYPE=image/jpeg:https://uv-bb.de/wp-content/uploads/2019/11/LOGO_UVBB2019_RGB-square.jpg
END:VEVENT
BEGIN:VEVENT
DTSTART;TZID=Europe/Berlin:20251203T120000
DTEND;TZID=Europe/Berlin:20251203T130000
DTSTAMP:20260425T194419
CREATED:20241127T094818Z
LAST-MODIFIED:20250107T091904Z
UID:10001725-1764763200-1764766800@uv-bb.de
SUMMARY:UVBB - Sitzung der Vizepräsidenten am 03.12.25\, Zoom
DESCRIPTION:Weitere Informationen folgen \n\n\n\nÄnderungen vorbehalten! \n\n\n\nFoto: UVBB
URL:https://uv-bb.de/event/uvbb-sitzung-der-vizepraesidenten-am-03-12-25-zoom/
CATEGORIES:Allgemein
ATTACH;FMTTYPE=image/jpeg:https://uv-bb.de/wp-content/uploads/2019/11/LOGO_UVBB2019_RGB-square.jpg
END:VEVENT
BEGIN:VEVENT
DTSTART;TZID=Europe/Berlin:20251204T100000
DTEND;TZID=Europe/Berlin:20251204T110000
DTSTAMP:20260425T194419
CREATED:20251111T092420Z
LAST-MODIFIED:20251113T074951Z
UID:10002183-1764842400-1764846000@uv-bb.de
SUMMARY:Online-Seminar: Circular Economy für den Mittelstand am 04.12.25
DESCRIPTION:Unser Verbandsmitglied NEW STANDARD.STUDIO GmbH lädt zum kostenfreien Online-Seminar „Circular Economy für den Mittelstand“ ein.  \n\n\n\nDie Veranstaltung findet am Mittwoch\, den 4. Dezember 2025\, von 10:00 bis 11:00 Uhr statt. \n\n\n\nThemaKreislaufwirtschaft ist weit mehr als Recycling. Für produzierende Unternehmen eröffnet sie neue Wege\, Ressourcen effizienter zu nutzen\, Kosten zu senken und unabhängiger von Rohstoffrisiken zu werden. Gleichzeitig gewinnt das Thema durch EU-Gesetzgebung\, Kundenanforderungen und Fachkräftemangel massiv an Bedeutung. Das Seminar zeigt\, wie mittelständische Unternehmen die Prinzipien der Circular Economy strategisch nutzen können – als Innovationstreiber statt als Regulierungslast. \n\n\n\nInhalteTeilnehmende erhalten einen praxisnahen Überblick darüber\,– was Circular Economy bedeutet und welche Chancen sie speziell für KMU bietet\,– wie Unternehmen Schritt für Schritt vom linearen zum zirkulären Geschäftsmodell kommen\,– welche konkreten Ansätze sich für Produktion\, Produktdesign und Serviceentwicklung eignen\,– und welche Erfolgsbeispiele aus der Praxis zeigen\, dass sich Kreislaufwirtschaft rechnet. \n\n\n\nNutzen für UnternehmenDas Seminar bietet einen kompakten Einstieg in das Thema Circular Economy und vermittelt konkrete Handlungsansätze\, wie Unternehmen– Ressourcenverbrauch und Kosten senken\,– Innovationspotenziale im eigenen Betrieb erkennen\,– und Nachhaltigkeit als Wettbewerbsvorteil nutzen können. \n\n\n\nTeilnahmeDie Teilnahme ist kostenfrei.Zur Anmeldung   \n\n\n\nMaximilian MauracherManaging DirectorNEW STANDARD.Swww.newstandard.studio \n\n\n\nFoto: Thomas Bormans / Unsplash
URL:https://uv-bb.de/event/online-seminar-circular-economy-fuer-den-mittelstand-am-04-12-25/
CATEGORIES:Allgemein,Verbandsbezirke
ATTACH;FMTTYPE=image/jpeg:https://uv-bb.de/wp-content/uploads/2025/11/Bild-NEW-STANDARDS-Veranstaltungsinfo-Quelle-Thomas-Bormans-Unsplash.jpg
END:VEVENT
BEGIN:VEVENT
DTSTART;TZID=Europe/Berlin:20251208T100000
DTEND;TZID=Europe/Berlin:20251208T120000
DTSTAMP:20260425T194419
CREATED:20250107T095535Z
LAST-MODIFIED:20250107T095536Z
UID:10002113-1765188000-1765195200@uv-bb.de
SUMMARY:UVBB – Teamsitzung VB Südbrandenburg am 08.12.25
DESCRIPTION:Foto: UVBB
URL:https://uv-bb.de/event/uvbb-teamsitzung-vb-suedbrandenburg-am-08-12-25/
LOCATION:Büro Cottbus\, Schillerstr. 71\, Cottbus\, 03046\, Deutschland
CATEGORIES:VB Süd,Verbandsbezirke
ATTACH;FMTTYPE=image/jpeg:https://uv-bb.de/wp-content/uploads/2019/11/LOGO_UVBB2019_RGB-square.jpg
END:VEVENT
BEGIN:VEVENT
DTSTART;TZID=Europe/Berlin:20251208T120000
DTEND;TZID=Europe/Berlin:20251208T130000
DTSTAMP:20260425T194419
CREATED:20251111T125908Z
LAST-MODIFIED:20251111T125910Z
UID:10002184-1765195200-1765198800@uv-bb.de
SUMMARY:Versorgungswerk des UVBB - Mitgliederversammlung am 08.12.25
DESCRIPTION:Änderungen vorbehalten! \n\n\n\nFoto: UVBB
URL:https://uv-bb.de/event/versorgungswerk-des-uvbb-mitgliederversammlung-am-08-12-25/
LOCATION:Büro Cottbus\, Schillerstr. 71\, Cottbus\, 03046\, Deutschland
CATEGORIES:Allgemein,Verbandsbezirke
ATTACH;FMTTYPE=image/jpeg:https://uv-bb.de/wp-content/uploads/2019/11/cropped-LOGO_UVBB2019_RGB-square.jpg
END:VEVENT
BEGIN:VEVENT
DTSTART;TZID=Europe/Berlin:20251209T160000
DTEND;TZID=Europe/Berlin:20251209T180000
DTSTAMP:20260425T194419
CREATED:20250728T114002Z
LAST-MODIFIED:20251017T093628Z
UID:10002159-1765296000-1765303200@uv-bb.de
SUMMARY:Industriemuseum: Die historische Entwicklung des Greenpark-Geländes in Stahnsdorf am 09.12.25
DESCRIPTION:Das Industriemuseum der Region Teltow ist ein kulturelles Zentrum und hat sich zur Aufgabe gestellt\, die Industrieentwicklung in unserem Umfeld mit ihren Ergebnissen in Forschung\, Entwicklung und Produktion zu bewahren und zu präsentieren. \n\n\n\nEs führt vielfältige Veranstaltungen zu Themen wie– Technik – Geschichte– Unternehmen – Technik – Ausbildungsmöglichkeiten– berufliche Perspektiven in der Region heute– Kunst und Kultursowie weitere Themen durch. \n\n\n\nDie Vorträge sind gemeinsame Veranstaltungen zwischen dem Unternehmerverband Brandenburg-Berlin und Industriemuseum. \n\n\n\nDatum / Uhrzeit:Dienstag\, 09. Dezember 2025\, 16 Uhr \n\n\n\nThema: Die historische Entwicklung des Greenpark-Geländes in Stahnsdorf \n\n\n\nReferent: Herr Dr. Hans-Joachim Koch\, Heimatverein Stahnsdorf e.V. \n\n\n\nDie Veranstaltungen sind kostenfrei\, mit einer Spende können die Besucher die Arbeit des Vereins unterstützen. \n\n\n\nWebseite Industriemuseum \n\n\n\nFoto: Industriemuseum
URL:https://uv-bb.de/event/die-historische-entwicklung-des-greenpark-gelaendes-in-stahnsdorf-am-09-12-25/
LOCATION:Industriemuseum Region Teltow e.V.\, Oderstraße 23-25\, Teltow\, Brandenburg\, 14513\, Deutschland
CATEGORIES:Allgemein,VB West
ATTACH;FMTTYPE=image/png:https://uv-bb.de/wp-content/uploads/2025/02/Logo-IMT-Webseite_2025.png
END:VEVENT
BEGIN:VEVENT
DTSTART;TZID=Europe/Berlin:20251210T080000
DTEND;TZID=Europe/Berlin:20251210T100000
DTSTAMP:20260425T194419
CREATED:20251202T105220Z
LAST-MODIFIED:20251202T105321Z
UID:10001840-1765353600-1765360800@uv-bb.de
SUMMARY:Für UVBB-Mitglieder: Kostenfreies KI-Online-Seminar am 10.12.25
DESCRIPTION:Wir laden Sie herzlich zu unserem kommenden Online-Seminar ein\, das wir gemeinsam mit dem Digitalwerk Werder\, dem Unternehmerverband Brandenburg Berlin und der Unternehmervereinigung Uckermark durchführen: \n\n\n\n„Grundlagen und Anwendung moderner KI – von Chatbots bis Bildgenerierung“Mittwoch\, 10. Dezember 2025 | 08:00 bis 10:00 UhrOnline | Die Teilnahme ist für alle UVBB-Mitglieder kostenfrei \n\n\n\nDas Seminar vermittelt einen verständlichen und strukturierten Überblick über moderne Technologien der Künstlichen Intelligenz. Es richtet sich an Einsteigerinnen und Einsteiger\, die zentrale KI-Begriffe kennenlernen und erste praktische Anwendungsmöglichkeiten verstehen möchten. \n\n\n\nInhalte des Seminars:– Grundlagen moderner KI und Large Language Models– Funktionsweise und Einsatzmöglichkeiten von Chatbots– Effektive Prompting-Techniken– Multimodale KI: Arbeiten mit Text und Bild– Einführung in KI-gestützte Bildgenerierung– KI im Wissensmanagement– Kurzer Praxisanteil zum Ausprobieren– Einordnung von Chancen und Grenzen im Arbeitsalltag \n\n\n\nDie Teilnahme bietet einen kompakten Einstieg in ein Thema\, das in allen Branchen zunehmend an Bedeutung gewinnt und bereits heute Arbeitsprozesse maßgeblich beeinflusst. \n\n\n\n👉 Anmeldung über Eventbrite:https://www.eventbrite.de/e/1976492854333?aff=oddtdtcreator \n\n\n\nAlternativ können Sie sich auch per E-Mail anmelden:herrmann@uv-bb.de \n\n\n\nWir freuen uns auf Ihre Teilnahme.
URL:https://uv-bb.de/event/fuer-uvbb-mitglieder-kostenfreies-ki-online-seminar-am-10-12-25/
CATEGORIES:Allgemein,Verbandsbezirke
ATTACH;FMTTYPE=image/png:https://uv-bb.de/wp-content/uploads/2024/10/Logo-Unternehmervereinigung-Uckermark.png
END:VEVENT
BEGIN:VEVENT
DTSTART;TZID=Europe/Berlin:20251213T170000
DTEND;TZID=Europe/Berlin:20251213T233000
DTSTAMP:20260425T194419
CREATED:20241213T111202Z
LAST-MODIFIED:20251124T080523Z
UID:10002089-1765645200-1765668600@uv-bb.de
SUMMARY:RGV TKS: 25 Jahre RGV - Jubiläumsgala & Weihnachtsball am 13.12.25
DESCRIPTION:Der Regionale GewerbeVerein Teltow-Kleinmachnow-Stahnsdorf e.V. feiert Jubiläum – feiern Sie mit uns! \n\n\n\nAm Samstag\, 13. Dezember 2025\, laden wir Sie herzlich ins GINN Hotel Teltow ein\,um gemeinsam einen festlichen Galaabend zu genießen. \n\n\n\nEinlass & Empfang ab 17 Uhr | Programm ab 18 Uhr \n\n\n\nFreuen Sie sich auf einen unvergesslichen Abend mit: \n\n\n\n\nfestlicher Begrüßung durch Vertreter des Landes\, des Kreises und unserer Region\n\n\n\nköstlichem Galadinner\n\n\n\nMusik & Tanz\n\n\n\neiner große Jubiläums-Tombola mit exklusiven Preisen (u.a. eine ASKANIA-Uhr im Wert von 3.000 Euro)\n\n\n\ninspirierendem Austausch & Netzwerken mit der regionalen Wirtschaft\n\n\n\n\nTicketpreis: 70 Euro (brutto) | Frühbucherrabatt: bis 30. September 25 nur 60 Euro (brutto)Kartenverkauf ab sofort über Eventbrite (LINK)Parken: beim Hotel (nach Verfügbarkeit\, gegen Gebühr)oder auf dem Parkplatz des Freibads Kleinmachnow (direkt gegenüber).Dresscode: AbendgarderobeÜbernachtungsmöglichkeiten: Für Ballgäste\, die nach der Feier nicht mehr heimfahren möchten\, haben wir ein Zimmerkontingent reserviert. Die Zimmer können unter RGV-TKS im GINN Hotel abgerufen werden (Selbstzahlerbasis). Telefon: 030 34 34 73 300 oder E-Mail: reservation@ginn-hotel.comFragen gerne an  vorstand@rgv-online.de. \n\n\n\nSichern Sie sich jetzt schon den Termin und feiern Sie mit uns25 Jahre erfolgreiche Wirtschaftsförderung aus der Region\, für die Region! \n\n\n\nFoto: RGV
URL:https://uv-bb.de/event/rgv-unternehmerabend-in-tks-am-09-12-25/
CATEGORIES:Allgemein,VB West,Verbandsbezirke
ATTACH;FMTTYPE=image/png:https://uv-bb.de/wp-content/uploads/2024/11/Logo-RGV-TKS-per-28-11-2024.png
END:VEVENT
BEGIN:VEVENT
DTSTART;TZID=Europe/Berlin:20251216T180000
DTEND;TZID=Europe/Berlin:20251216T210000
DTSTAMP:20260425T194419
CREATED:20251202T090652Z
LAST-MODIFIED:20251211T073330Z
UID:10001838-1765908000-1765918800@uv-bb.de
SUMMARY:7. Regio-Talk - Airportregion am 16.12.25
DESCRIPTION:Am 16. Dezember 2025 findet der nächste Regio-Talk am Meeting-Point Schönefeld bei Tony’s statt. Gemeinsam mit Unternehmer:innen\, Vertreter:innen aus Verwaltung\, Politik sowie engagierten Akteur:innen der Flughafenregion möchten wir mit Ihnen ins Gespräch kommen\, Ideen teilen und neue Kontakte knüpfen. \n\n\n\nJeder Teilnehmende erhält kurz die Möglichkeit\, sich vorzustellen — anschließend bleibt viel Zeit für Austausch und Networking in entspannter Atmosphäre. \n\n\n\n📍 Tony’s Pizzeria Airport\, Am Flughafen 13\, 12529 Schönefeld ⏰ 18:00–21:00 Uhr 💶 Teilnahme kostenfrei\, ein kleines Snack-Paket für unschlagbare 10 € inkl. Wasser & Kaffee empfehlen wir jedoch. \n\n\n\nWir freuen uns auf einen inspirierenden Abend und auf anregende Gespräche. Bitte melden Sie sich vorab an. Für weitere Informationen und die Anmeldung nutzen Sie bitte diesen Link.  \n\n\n\nHerzliche GrüßeHeiko Schmidt (stellvertretend für die einladenden Organisationen) \n\n\n\nFoto: pixabay
URL:https://uv-bb.de/event/der-monatliche-regio-talk-am-16-12-25/
CATEGORIES:VB Berlin,VB Ost,VB Süd,VB West
ATTACH;FMTTYPE=image/jpeg:https://uv-bb.de/wp-content/uploads/2025/10/calendar-660670_1280.jpg
END:VEVENT
END:VCALENDAR