BEGIN:VCALENDAR
VERSION:2.0
PRODID:-//UVBB - ECPv6.15.20//NONSGML v1.0//EN
CALSCALE:GREGORIAN
METHOD:PUBLISH
X-ORIGINAL-URL:https://uv-bb.de
X-WR-CALDESC:Veranstaltungen für UVBB
REFRESH-INTERVAL;VALUE=DURATION:PT1H
X-Robots-Tag:noindex
X-PUBLISHED-TTL:PT1H
BEGIN:VTIMEZONE
TZID:Europe/Berlin
BEGIN:DAYLIGHT
TZOFFSETFROM:+0100
TZOFFSETTO:+0200
TZNAME:CEST
DTSTART:20170326T010000
END:DAYLIGHT
BEGIN:STANDARD
TZOFFSETFROM:+0200
TZOFFSETTO:+0100
TZNAME:CET
DTSTART:20171029T010000
END:STANDARD
BEGIN:DAYLIGHT
TZOFFSETFROM:+0100
TZOFFSETTO:+0200
TZNAME:CEST
DTSTART:20180325T010000
END:DAYLIGHT
BEGIN:STANDARD
TZOFFSETFROM:+0200
TZOFFSETTO:+0100
TZNAME:CET
DTSTART:20181028T010000
END:STANDARD
BEGIN:DAYLIGHT
TZOFFSETFROM:+0100
TZOFFSETTO:+0200
TZNAME:CEST
DTSTART:20190331T010000
END:DAYLIGHT
BEGIN:STANDARD
TZOFFSETFROM:+0200
TZOFFSETTO:+0100
TZNAME:CET
DTSTART:20191027T010000
END:STANDARD
END:VTIMEZONE
BEGIN:VEVENT
DTSTART;VALUE=DATE:20180205
DTEND;VALUE=DATE:20180206
DTSTAMP:20260420T150840
CREATED:20191104T135935Z
LAST-MODIFIED:20191104T135935Z
UID:10001351-1517788800-1517875199@uv-bb.de
SUMMARY:Potsdamer Gespräche am 05.02.18
DESCRIPTION:05. Februar 2018\, 18 – 21 Uhr\nBARMERFriedrich-Ebert-Str. 814467 Potsdam\nZur Begrüßung wird unser Mitglied Sven Forgber\, Geschäftsführer der My Minute Meal GmbH aus Oranienburg sein Unternehmen vorstellen! Das Unternehmen hat einen intelligenten Kühlschrank entwickelt\, der es Mitarbeitern ermöglicht sich am Arbeitsplatz 24/7\, gesund und bargeldlos zu ernähren. \nAls Gesprächspartner gibt uns Rosalind Honig\, Projektleiterin "Netzwerk Arbeit Inklusiv" bei der AWO Potsdam\, anschließend einen Einblick in das Projekt „Arbeitskräfte inklusiv. Potentiale – Verbindungen – Vielfalt“ und die sich daraus ergebenen Chancen für Arbeitgeber.
URL:https://uv-bb.de/event/potsdamer-gespraeche-am-05-02-18/
END:VEVENT
BEGIN:VEVENT
DTSTART;VALUE=DATE:20180207
DTEND;VALUE=DATE:20180208
DTSTAMP:20260420T150840
CREATED:20191104T135935Z
LAST-MODIFIED:20191104T135935Z
UID:10001349-1517961600-1518047999@uv-bb.de
SUMMARY:Unternehmerstammtisch in Cottbus am 7. Februar
DESCRIPTION:Cottbus | Wir laden herzlich zum ersten Unternehmerstammtisch 2018 ein\nMittwoch\, 7. Februar\, 18 – 20 Uhr\nCity Hotel Cottbus\nR.-Breitscheid-Str. 10\n03046 Cottbus\nThema: Gesprächs-/Gedankenaustausch zur Arbeit des Verbandsbezirkes Südbrandenburg und des UV in 2017/2018\nUm Anmeldung bis zum 5. Februar wird gebeten.
URL:https://uv-bb.de/event/unternehmerstammtisch-in-cottbus-am-7-februar/
END:VEVENT
BEGIN:VEVENT
DTSTART;VALUE=DATE:20180213
DTEND;VALUE=DATE:20180214
DTSTAMP:20260420T150840
CREATED:20191104T135935Z
LAST-MODIFIED:20191104T135935Z
UID:10001346-1518480000-1518566399@uv-bb.de
SUMMARY:Industriemuseum Region Teltow e.V. – Vortag am 13.02.2018
DESCRIPTION:Teltow| Das Industriemuseum der Region Teltow hat sich zur Aufgabe gestellt\, die Industrieentwicklung in unserem Umfeld mit ihren Ergebnissen in Forschung\, Entwicklung und Produktion zu bewahren und zu präsentieren.\nDas Industriemuseum ist ein kulturelles Zentrum der Region.\nEs führt vielfältige Veranstaltungen zu Themen wie– Technik – Geschichte– Unternehmen – Technik – Ausbildungsmöglichkeiten– berufliche Perspektiven in der Region heute– Kunst und Kultursowie weitere Themen durch.\nDie nächste Veranstaltung findet statt am:\n13. Februar 2018\, 16 UhrIndustriemuseum Region Teltow e.V.Oderstr. 23 – 2514513 TeltowTel.: 03328 – 3369088www.imt-museum.de\nThema: Heute die Standards für morgen setzen – entscheidende Schritte für Industrie 4.0\nReferent: Frau Filiz Elmas\, DIN Deutsches Institut für Normung e.V.\nEine Teilnahme an dieser Veranstaltung ist kostenfrei.\nEine Spende der Besucher hilft bei der gemeinnützigen Arbeit.
URL:https://uv-bb.de/event/industriemuseum-region-teltow-e-v-vortag-am-13-02-2018/
END:VEVENT
BEGIN:VEVENT
DTSTART;VALUE=DATE:20180214
DTEND;VALUE=DATE:20180215
DTSTAMP:20260420T150840
CREATED:20191104T135935Z
LAST-MODIFIED:20191104T141801Z
UID:10001342-1518566400-1518652799@uv-bb.de
SUMMARY:Arbeitsrechtsfrühstück am 14.02.18 zum Thema: Personalgewinnung durch Sachbezüge und sonstige Benefits
DESCRIPTION:Potsdam| Unser UV BB – Mitglied Goldenstein & Partner möchte Sie sehr herzlich zum Arbeitsrechtsfrühstück einladen.\n14. Februar 2018\, 9 UhrGoldenstein & PartnerVilla QuistorpHegelallee 114467 Potsdam\nThema: Personalgewinnung durch Sachbezüge und sonstige Benefits\nAnmeldungen bitte bis 07. Februar 2018 erbeten!\nWeitere Informationen erhalten Sie von der\nKanzlei Goldenstein & PartnerTel.-Nr.: 0331-298200Mail: info@ra-goldenstein.de
URL:https://uv-bb.de/event/arbeitsrechtsfruehstueck-am-14-02-18-zum-thema-personalgewinnung-durch-sachbezuege-und-sonstige-benefits/
END:VEVENT
BEGIN:VEVENT
DTSTART;VALUE=DATE:20180214
DTEND;VALUE=DATE:20180215
DTSTAMP:20260420T150840
CREATED:20191104T135935Z
LAST-MODIFIED:20191104T135935Z
UID:10001344-1518566400-1518652799@uv-bb.de
SUMMARY:UV BB - Klausurtagung am 14.02.18
DESCRIPTION:14. Februar 2018\, 14 – 20 Uhr
URL:https://uv-bb.de/event/uv-bb-klausurtagung-am-14-02-18/
END:VEVENT
BEGIN:VEVENT
DTSTART;VALUE=DATE:20180220
DTEND;VALUE=DATE:20180221
DTSTAMP:20260420T150840
CREATED:20191104T135935Z
LAST-MODIFIED:20191104T141801Z
UID:10001340-1519084800-1519171199@uv-bb.de
SUMMARY:Workshop in Hoppegarten am 20.02.18
DESCRIPTION:Thema: Alle Kräfte gebündelt? – Fachkräfteinitiativen für die Metropolregion Ost\n20. Februar 2018\, ab 15 Uhr\nWeitere Informationen und Anmeldung\nEinladung_20.02.2018_Fachkra__fteinitiative.pdf \nEinladung_20.02.2018_Fachkra__fteinitiative.pdf
URL:https://uv-bb.de/event/workshop-in-hoppegarten-am-20-02-18/
END:VEVENT
BEGIN:VEVENT
DTSTART;VALUE=DATE:20180227
DTEND;VALUE=DATE:20180228
DTSTAMP:20260420T150840
CREATED:20191104T135934Z
LAST-MODIFIED:20191104T135934Z
UID:10001338-1519689600-1519775999@uv-bb.de
SUMMARY:Industriemuseum Region Teltow e.V. – Vortag am 27.02.2018
DESCRIPTION:Teltow| Das Industriemuseum der Region Teltow hat sich zur Aufgabe gestellt\, die Industrieentwicklung in unserem Umfeld mit ihren Ergebnissen in Forschung\, Entwicklung und Produktion zu bewahren und zu präsentieren.\nDas Industriemuseum ist ein kulturelles Zentrum der Region.\nEs führt vielfältige Veranstaltungen zu Themen wie– Technik – Geschichte– Unternehmen – Technik – Ausbildungsmöglichkeiten– berufliche Perspektiven in der Region heute– Kunst und Kultursowie weitere Themen durch.\nDie nächste Veranstaltung findet statt am:\n27. Februar 2018\, 16 UhrIndustriemuseum Region Teltow e.V.Oderstr. 23 – 2514513 TeltowTel.: 03328 – 3369088www.imt-museum.de\nThema: Hochtechnologie in der Oberflächenveredelung\nReferent: Herr Bernhard Fink\, Diehl Metal-Applications GmbH Berlin/Teltow\nEine Teilnahme an dieser Veranstaltung ist kostenfrei.\nEine Spende der Besucher hilft bei der gemeinnützigen Arbeit.
URL:https://uv-bb.de/event/industriemuseum-region-teltow-e-v-vortag-am-27-02-2018/
END:VEVENT
BEGIN:VEVENT
DTSTART;VALUE=DATE:20180228
DTEND;VALUE=DATE:20180301
DTSTAMP:20260420T150840
CREATED:20191104T135934Z
LAST-MODIFIED:20191104T141800Z
UID:10001225-1519776000-1519862399@uv-bb.de
SUMMARY:Arbeitsrechtsfrühstück am 28.02.18 zum Thema: Personalgewinnung durch Sachbezüge und sonstige Benefits
DESCRIPTION:Berlin| Unser UV BB – Mitglied Goldenstein & Partner möchte Sie sehr herzlich zum Arbeitsrechtsfrühstück einladen.\n28. Februar 2018\, 9 UhrBüro der Partnerkanzlei Knappworst & PartnerJoachimsthaler Str. 2410719 Berlin\nThema: Personalgewinnung durch Sachbezüge und sonstige Benefits\nAnmeldungen bitte bis 07. Februar 2018 erbeten!\nWeitere Informationen erhalten Sie von derKanzlei Goldenstein & PartnerTel.-Nr.: 0331-298200Mail: info@ra-goldenstein.de
URL:https://uv-bb.de/event/arbeitsrechtsfruehstueck-am-28-02-18-zum-thema-personalgewinnung-durch-sachbezuege-und-sonstige-benefits/
END:VEVENT
END:VCALENDAR