BEGIN:VCALENDAR
VERSION:2.0
PRODID:-//UVBB - ECPv6.15.20//NONSGML v1.0//EN
CALSCALE:GREGORIAN
METHOD:PUBLISH
X-ORIGINAL-URL:https://uv-bb.de
X-WR-CALDESC:Veranstaltungen für UVBB
REFRESH-INTERVAL;VALUE=DURATION:PT1H
X-Robots-Tag:noindex
X-PUBLISHED-TTL:PT1H
BEGIN:VTIMEZONE
TZID:Europe/Berlin
BEGIN:DAYLIGHT
TZOFFSETFROM:+0100
TZOFFSETTO:+0200
TZNAME:CEST
DTSTART:20250330T010000
END:DAYLIGHT
BEGIN:STANDARD
TZOFFSETFROM:+0200
TZOFFSETTO:+0100
TZNAME:CET
DTSTART:20251026T010000
END:STANDARD
BEGIN:DAYLIGHT
TZOFFSETFROM:+0100
TZOFFSETTO:+0200
TZNAME:CEST
DTSTART:20260329T010000
END:DAYLIGHT
BEGIN:STANDARD
TZOFFSETFROM:+0200
TZOFFSETTO:+0100
TZNAME:CET
DTSTART:20261025T010000
END:STANDARD
BEGIN:DAYLIGHT
TZOFFSETFROM:+0100
TZOFFSETTO:+0200
TZNAME:CEST
DTSTART:20270328T010000
END:DAYLIGHT
BEGIN:STANDARD
TZOFFSETFROM:+0200
TZOFFSETTO:+0100
TZNAME:CET
DTSTART:20271031T010000
END:STANDARD
END:VTIMEZONE
BEGIN:VEVENT
DTSTART;TZID=Europe/Berlin:20261007T100000
DTEND;TZID=Europe/Berlin:20261007T120000
DTSTAMP:20260425T180823
CREATED:20260105T105012Z
LAST-MODIFIED:20260127T090228Z
UID:10001865-1791367200-1791374400@uv-bb.de
SUMMARY:UVBB - Sitzung der Vizepräsidenten am 07.10.26\, Zoom
DESCRIPTION:Änderungen vorbehalten! \n\n\n\nFoto: UVBB
URL:https://uv-bb.de/event/uvbb-sitzung-der-vizepraesidenten-am-07-10-26-zoom/
LOCATION:Brandenburg
CATEGORIES:Allgemein
ATTACH;FMTTYPE=image/jpeg:https://uv-bb.de/wp-content/uploads/2026/01/Logo-UV-BB.jpg
END:VEVENT
BEGIN:VEVENT
DTSTART;TZID=Europe/Berlin:20261012T100000
DTEND;TZID=Europe/Berlin:20261012T120000
DTSTAMP:20260425T180823
CREATED:20260105T110000Z
LAST-MODIFIED:20260106T131214Z
UID:10001866-1791799200-1791806400@uv-bb.de
SUMMARY:UVBB - Teamsitzung VB Südbrandenburg am 12.10.26
DESCRIPTION:Änderungen vorbehalten! \n\n\n\nFoto: UVBB
URL:https://uv-bb.de/event/uvbb-teamsitzung-vb-suedbrandenburg-am-12-10-26/
LOCATION:Büro Cottbus\, Schillerstr. 71\, Cottbus\, 03046\, Deutschland
CATEGORIES:VB Süd
ATTACH;FMTTYPE=image/jpeg:https://uv-bb.de/wp-content/uploads/2026/01/Logo-UV-BB.jpg
END:VEVENT
BEGIN:VEVENT
DTSTART;TZID=Europe/Berlin:20261102T130000
DTEND;TZID=Europe/Berlin:20261102T143000
DTSTAMP:20260425T180823
CREATED:20260106T112208Z
LAST-MODIFIED:20260106T112305Z
UID:10002217-1793624400-1793629800@uv-bb.de
SUMMARY:UVBB - Teamsitzung VB Westbrandenburg am 02.11.26\, Zoom
DESCRIPTION:Änderungen vorbehalten! \n\n\n\nFoto: UVBB
URL:https://uv-bb.de/event/uvbb-teamsitzung-vb-westbrandenburg-am-02-11-26-zoom/
LOCATION:Brandenburg
CATEGORIES:VB West
ATTACH;FMTTYPE=image/jpeg:https://uv-bb.de/wp-content/uploads/2026/01/Logo-UV-BB.jpg
END:VEVENT
BEGIN:VEVENT
DTSTART;TZID=Europe/Berlin:20261103T180000
DTEND;TZID=Europe/Berlin:20261103T200000
DTSTAMP:20260425T180823
CREATED:20260106T095353Z
LAST-MODIFIED:20260106T133604Z
UID:10002216-1793728800-1793736000@uv-bb.de
SUMMARY:Potsdamer Gespräche am 03.11.26
DESCRIPTION:Weitere Informationen folgen! \n\n\n\nÄnderungen vorbehalten! \n\n\n\nFoto: KI generiert
URL:https://uv-bb.de/event/potsdamer-gespraeche-am-03-11-26/
LOCATION:BARMER\, Friedrich-Ebert-Straße 8 (Wilhelmgalerie)\, Potsdam\, Brandenburg\, 14467\, Deutschland
CATEGORIES:VB West
ATTACH;FMTTYPE=image/jpeg:https://uv-bb.de/wp-content/uploads/2026/01/Logo-Potsdamer-Gespraeche-neu.jpeg
END:VEVENT
BEGIN:VEVENT
DTSTART;TZID=Europe/Berlin:20261104T090000
DTEND;TZID=Europe/Berlin:20261104T180000
DTSTAMP:20260425T180823
CREATED:20251119T120949Z
LAST-MODIFIED:20260310T115402Z
UID:10002185-1793782800-1793815200@uv-bb.de
SUMMARY:5. LAUSITZFORUM 2038 am 04.11.26
DESCRIPTION:Weitere Informationen \n\n\n\nFoto: LAUSITZFORUM 2038
URL:https://uv-bb.de/event/5-lausitzforum-2038-am-04-11-2026/
LOCATION:Brandenburg
CATEGORIES:VB Süd
ATTACH;FMTTYPE=image/png:https://uv-bb.de/wp-content/uploads/2023/06/LausitzForum-2023.png
END:VEVENT
BEGIN:VEVENT
DTSTART;TZID=Europe/Berlin:20261104T120000
DTEND;TZID=Europe/Berlin:20261104T130000
DTSTAMP:20260425T180823
CREATED:20260106T115128Z
LAST-MODIFIED:20260106T130420Z
UID:10002218-1793793600-1793797200@uv-bb.de
SUMMARY:UVBB - Sitzung der Vizepräsidenten am 04.11.26\, Zoom
DESCRIPTION:Änderungen vorbehalten! \n\n\n\nFoto: UVBB
URL:https://uv-bb.de/event/uvbb-sitzung-der-vizepraesidenten-am-04-11-26-zoom/
LOCATION:Brandenburg
CATEGORIES:Allgemein
ATTACH;FMTTYPE=image/jpeg:https://uv-bb.de/wp-content/uploads/2026/01/Logo-UV-BB.jpg
END:VEVENT
BEGIN:VEVENT
DTSTART;TZID=Europe/Berlin:20261109T100000
DTEND;TZID=Europe/Berlin:20261109T120000
DTSTAMP:20260425T180823
CREATED:20260106T115433Z
LAST-MODIFIED:20260106T115434Z
UID:10002219-1794218400-1794225600@uv-bb.de
SUMMARY:UVBB - Teamsitzung VB Südbrandenburg am 09.11.26
DESCRIPTION:Änderungen vorbehalten! \n\n\n\nFoto: UVBB
URL:https://uv-bb.de/event/uvbb-teamsitzung-vb-suedbrandenburg-am-09-11-26/
LOCATION:Brandenburg
CATEGORIES:VB Süd
ATTACH;FMTTYPE=image/jpeg:https://uv-bb.de/wp-content/uploads/2026/01/Logo-UV-BB.jpg
END:VEVENT
BEGIN:VEVENT
DTSTART;TZID=Europe/Berlin:20261118T150000
DTEND;TZID=Europe/Berlin:20261118T180000
DTSTAMP:20260425T180823
CREATED:20260106T115839Z
LAST-MODIFIED:20260106T115840Z
UID:10002220-1795014000-1795024800@uv-bb.de
SUMMARY:UVBB - Präsidiumssitzung am 18.11.26
DESCRIPTION:Änderungen vorbehalten! \n\n\n\nFoto: UVBB
URL:https://uv-bb.de/event/uvbb-praesidiumssitzung-am-18-11-26/
LOCATION:Brandenburg
CATEGORIES:Allgemein
ATTACH;FMTTYPE=image/jpeg:https://uv-bb.de/wp-content/uploads/2026/01/Logo-UV-BB.jpg
END:VEVENT
BEGIN:VEVENT
DTSTART;TZID=Europe/Berlin:20261202T120000
DTEND;TZID=Europe/Berlin:20261202T130000
DTSTAMP:20260425T180823
CREATED:20260106T120045Z
LAST-MODIFIED:20260106T120046Z
UID:10002221-1796212800-1796216400@uv-bb.de
SUMMARY:UVBB - Sitzung der Vizepräsidenten am 02.12.26\, Zoom
DESCRIPTION:Änderungen vorbehalten! \n\n\n\nFoto: UVBB
URL:https://uv-bb.de/event/uvbb-sitzung-der-vizepraesidenten-am-02-12-26-zoom/
LOCATION:Brandenburg
CATEGORIES:Allgemein
ATTACH;FMTTYPE=image/jpeg:https://uv-bb.de/wp-content/uploads/2026/01/Logo-UV-BB.jpg
END:VEVENT
BEGIN:VEVENT
DTSTART;TZID=Europe/Berlin:20261207T130000
DTEND;TZID=Europe/Berlin:20261207T180000
DTSTAMP:20260425T180823
CREATED:20260106T121709Z
LAST-MODIFIED:20260127T090321Z
UID:10002223-1796648400-1796666400@uv-bb.de
SUMMARY:UVBB - Teamsitzung VB Westbrandenburg am 07.12.26\, Zoom
DESCRIPTION:Änderungen vorbehalten! \n\n\n\nFoto: UVBB
URL:https://uv-bb.de/event/uvbb-teamsitzung-vb-westbrandenburg-am-07-12-26-zoom/
LOCATION:Brandenburg
CATEGORIES:VB West
ATTACH;FMTTYPE=image/jpeg:https://uv-bb.de/wp-content/uploads/2026/01/Logo-UV-BB.jpg
END:VEVENT
BEGIN:VEVENT
DTSTART;TZID=Europe/Berlin:20261214T100000
DTEND;TZID=Europe/Berlin:20261214T120000
DTSTAMP:20260425T180823
CREATED:20260106T120630Z
LAST-MODIFIED:20260106T120631Z
UID:10002222-1797242400-1797249600@uv-bb.de
SUMMARY:UVBB - Teamsitzung VB Südbrandenburg am 14.12.26
DESCRIPTION:Änderungen vorbehalten! \n\n\n\nFoto: UVBB
URL:https://uv-bb.de/event/uvbb-teamsitzung-vb-suedbrandenburg-am-14-12-26/
LOCATION:Brandenburg
CATEGORIES:VB Süd
ATTACH;FMTTYPE=image/jpeg:https://uv-bb.de/wp-content/uploads/2026/01/Logo-UV-BB.jpg
END:VEVENT
END:VCALENDAR