BEGIN:VCALENDAR
VERSION:2.0
PRODID:-//UVBB - ECPv6.15.20//NONSGML v1.0//EN
CALSCALE:GREGORIAN
METHOD:PUBLISH
X-ORIGINAL-URL:https://uv-bb.de
X-WR-CALDESC:Veranstaltungen für UVBB
REFRESH-INTERVAL;VALUE=DURATION:PT1H
X-Robots-Tag:noindex
X-PUBLISHED-TTL:PT1H
BEGIN:VTIMEZONE
TZID:Europe/Berlin
BEGIN:DAYLIGHT
TZOFFSETFROM:+0100
TZOFFSETTO:+0200
TZNAME:CEST
DTSTART:20250330T010000
END:DAYLIGHT
BEGIN:STANDARD
TZOFFSETFROM:+0200
TZOFFSETTO:+0100
TZNAME:CET
DTSTART:20251026T010000
END:STANDARD
BEGIN:DAYLIGHT
TZOFFSETFROM:+0100
TZOFFSETTO:+0200
TZNAME:CEST
DTSTART:20260329T010000
END:DAYLIGHT
BEGIN:STANDARD
TZOFFSETFROM:+0200
TZOFFSETTO:+0100
TZNAME:CET
DTSTART:20261025T010000
END:STANDARD
BEGIN:DAYLIGHT
TZOFFSETFROM:+0100
TZOFFSETTO:+0200
TZNAME:CEST
DTSTART:20270328T010000
END:DAYLIGHT
BEGIN:STANDARD
TZOFFSETFROM:+0200
TZOFFSETTO:+0100
TZNAME:CET
DTSTART:20271031T010000
END:STANDARD
END:VTIMEZONE
BEGIN:VEVENT
DTSTART;TZID=Europe/Berlin:20260507T183000
DTEND;TZID=Europe/Berlin:20260507T210000
DTSTAMP:20260425T165045
CREATED:20260423T073031Z
LAST-MODIFIED:20260423T073701Z
UID:10002253-1778178600-1778187600@uv-bb.de
SUMMARY:Unternehmer-Seminar mit Prof. Dr. Weiler am 07.05.26
DESCRIPTION:Liebe UVBB-Mitglieder\, \n\n\n\nbereits seit Ende 2009 existiert in Deutschland die gesetzliche Regelung der „Patientenverfügung“. Ein Gesetz\, welches nur auf einen Ausschnitt aus dem weitaus größeren Gesamtkomplex der Vorsorgeverfügungen eingeht. Diese stellen generell die Frage nach privater Vorsorge bei eigener Entscheidungsunfähigkeit und befassen sich mit Regelungen ärztlicher Maßnahmen zum Lebensende hin. \n\n\n\nNutzen Sie die Gelegenheit\, einen erfahrenen Juristen zu diesem Themenkomplex zu hören. Sie erhalten Anregungen und Empfehlungen für eine sensible Problematik: Wer sich frühzeitig aktiv damit auseinandersetzt\, hat einen entscheidenden Vorsprung. Im Anschluss beantwortet Prof. Dr. Weiler gerne Ihre Fragen. \n\n\n\nDatum: 07. Mai 2026 \n\n\n\nThema: „Früher an Später denken“ \n\n\n\nReferent: Prof. Dr. Eddy Weiler \n\n\n\nVeranstaltungszeit: 19.00 – 21.00 UhrVor Beginn der Veranstaltung wird ab 18.30 Uhr ein kleiner Snack angeboten. \n\n\n\nVeranstaltungsort: Berufsbildungszentrum Berlin der Deutschen Vermögensberatung AG\,Seestr. 12\, 14974 Ludwigsfelde \n\n\n\nGebühr: 10\,- Euro für Catering und OrgapauschaleDie Gebühr ist vor Ort am Seminarabend zu entrichten. \n\n\n\nZum Flyer \n\n\n\nFoto: UVBB \n\n\n\n\n\n\n\n\n\n\n\n \n\n\n\n \n\n\n\nVerbindliche Anmeldungen erbeten bis 27. April 2026 \n\n\n\n	\n	\n	\n	\n    \n\n	    \n    \n        		Es gab Fehler bei Ihrer Einreichung. Bitte versuche es erneut.\n		\n        \n\n\n		\n\n	\n\n				\n				\n\n		\n		\n			\n			\n	\n		\n\n	Nachname*\n	\n						\n									\n\n\n\n	Vorname*\n	\n						\n									\n\n\n\n	Unternehmen*\n	\n						\n									\n\n\n\n	Straße*\n	\n						\n									\n\n\n\n	Postleitzahl*\n	\n						\n									\n\n\n\n	Ort*\n	\n						\n									\n\n\n\n	Email*\n	\n						\n									\n\n\n\n	Telefon\n	\n						\n									\n\n\n\n	Bemerkung\n	\n				\n							\n\n\n\n	Anmelderverbindlichkeit*\n	\n					\n				Mit dem Absenden dieses Formulars melde ich mich verbindlich zu dieser Veranstaltung an. Bei einer kostenpflichtigen Veranstaltung verpflichte ich mich zur Zahlung des Teilnahmebeitrages\, sofern ich nicht spätestens 3 Arbeitstage vor der Veranstaltung absage. Eine gesonderte Teilnahmebestätigung wird nicht versandt. Bei Fragen wenden Sie sich bitte an die Geschäftsstelle unter Telefon 0331-810306.  Mit einem * versehene Felder sind Pflichtfelder und müssen ausgefüllt werden*\n			\n		\n							\n\n\n\n	Ich akzeptiere die allgemeinen Datenschutzerklärung*\n	\n					\n				Hiermit akzeptiere ich die Datenschutzerklärung*\n			\n				Datenschutzerklärung\n	\n							\n\nMit einem * versehene Felder sind Pflichtfelder und müssen ausgefüllt werden.  \n\n	Was ist 2 + 5*\n	\n						\n									\n\n	\n		\n\n				\n			Address\n			\n				\n				Wenn Sie ein Mensch sind\, füllen Sie dieses Feld nicht aus
URL:https://uv-bb.de/event/unternehmer-seminar-mit-prof-dr-weiler-am-07-05-26/
LOCATION:Berufsbildungszentrum Berlin der Deutschen Vermögensberatung AG\, Seestr. 12\, Ludwigsfelde\, 14974\, Deutschland
CATEGORIES:Allgemein,Verbandsbezirke
ATTACH;FMTTYPE=image/jpeg:https://uv-bb.de/wp-content/uploads/2026/01/Logo-UV-BB.jpg
END:VEVENT
END:VCALENDAR