BEGIN:VCALENDAR
VERSION:2.0
PRODID:-//UVBB - ECPv6.15.20//NONSGML v1.0//EN
CALSCALE:GREGORIAN
METHOD:PUBLISH
X-ORIGINAL-URL:https://uv-bb.de
X-WR-CALDESC:Veranstaltungen für UVBB
REFRESH-INTERVAL;VALUE=DURATION:PT1H
X-Robots-Tag:noindex
X-PUBLISHED-TTL:PT1H
BEGIN:VTIMEZONE
TZID:Europe/Berlin
BEGIN:DAYLIGHT
TZOFFSETFROM:+0100
TZOFFSETTO:+0200
TZNAME:CEST
DTSTART:20250330T010000
END:DAYLIGHT
BEGIN:STANDARD
TZOFFSETFROM:+0200
TZOFFSETTO:+0100
TZNAME:CET
DTSTART:20251026T010000
END:STANDARD
BEGIN:DAYLIGHT
TZOFFSETFROM:+0100
TZOFFSETTO:+0200
TZNAME:CEST
DTSTART:20260329T010000
END:DAYLIGHT
BEGIN:STANDARD
TZOFFSETFROM:+0200
TZOFFSETTO:+0100
TZNAME:CET
DTSTART:20261025T010000
END:STANDARD
BEGIN:DAYLIGHT
TZOFFSETFROM:+0100
TZOFFSETTO:+0200
TZNAME:CEST
DTSTART:20270328T010000
END:DAYLIGHT
BEGIN:STANDARD
TZOFFSETFROM:+0200
TZOFFSETTO:+0100
TZNAME:CET
DTSTART:20271031T010000
END:STANDARD
END:VTIMEZONE
BEGIN:VEVENT
DTSTART;TZID=Europe/Berlin:20260505T090000
DTEND;TZID=Europe/Berlin:20260505T110000
DTSTAMP:20260425T165103
CREATED:20260218T081401Z
LAST-MODIFIED:20260422T073851Z
UID:10002227-1777971600-1777978800@uv-bb.de
SUMMARY:Unternehmerfrühstück VB Süd am 05.05.26
DESCRIPTION:Wir laden Sie herzlich zum  \n\n\n\nUnternehmerfrühstück des Verbandsbezirks Südbrandenburg \n\n\n\nein. \n\n\n\nDatum / Uhrzeit:Dienstag\, 05. Mai 2026 von 9:00 bis 11:00 Uhr  \n\n\n\nOrt:Flugplatzbetriebsgesellschaft Welzow mbHFlugplatz\, 03119 WelzowZufahrt von Osten\, ab Welzow Stadt  \n\n\n\n \n\n\n\n \n\n\n\nGesprächsthemen zur Information und zum Netzwerken: \n\n\n\n\n\n\n\nPlanung und Bau der Ortsumgehungen der B169 zwischen Cottbus und SenftenbergSteffen Kleiner\, Leiter des Landesstraßenbetriebs Brandenburg NL-Süd \n\n\n\nFördermöglichkeiten für kleine und mittlere BetriebeKatja Bolz\, WfBB – Sitz Cottbus \n\n\n\nWelche Vorteile bringt die Signal-Iduna für UnternehmenVolker Sagitz\, Signal Iduna \n\n\n\nUnternehmensförderung „Unternehmen Revier“ und Blick und die ZukunftNorman Müller / Andreas Elsner\, Wirtschaftsregion Lausitz \n\n\n\nWir freuen uns auf Sie und bitten um Ihre verbindliche Anmeldung bis zum 27. April 2026. \n\n\n\nDie Teilnahme ist kostenlos. \n\n\n\nÄnderungen vorbehalten! \n\n\n\nFoto: UVBB \n\n\n\n\n\n\n\n\n\n\n\n \n\n\n\n \n\n\n\nUm verbindliche Anmeldung bis zum 27. April 2026 wird gebeten! \n\n\n\n	\n	\n	\n	\n    \n\n	    \n    \n        		Es gab Fehler bei Ihrer Einreichung. Bitte versuche es erneut.\n		\n        \n\n\n		\n\n	\n\n				\n				\n\n		\n		\n			\n			\n	\n		\n\n	Nachname*\n	\n						\n									\n\n\n\n	Vorname*\n	\n						\n									\n\n\n\n	Unternehmen*\n	\n						\n									\n\n\n\n	Straße*\n	\n						\n									\n\n\n\n	Postleitzahl*\n	\n						\n									\n\n\n\n	Ort*\n	\n						\n									\n\n\n\n	Email*\n	\n						\n									\n\n\n\n	Telefon\n	\n						\n									\n\n\n\n	Bemerkung\n	\n				\n							\n\n\n\n	Anmelderverbindlichkeit*\n	\n					\n				Mit dem Absenden dieses Formulars melde ich mich verbindlich zu dieser Veranstaltung an. Bei einer kostenpflichtigen Veranstaltung verpflichte ich mich zur Zahlung des Teilnahmebeitrages\, sofern ich nicht spätestens 3 Arbeitstage vor der Veranstaltung absage. Eine gesonderte Teilnahmebestätigung wird nicht versandt. Bei Fragen wenden Sie sich bitte an die Geschäftsstelle unter Telefon 0331-810306.  Mit einem * versehene Felder sind Pflichtfelder und müssen ausgefüllt werden*\n			\n		\n							\n\n\n\n	Ich akzeptiere die allgemeinen Datenschutzerklärung*\n	\n					\n				Hiermit akzeptiere ich die Datenschutzerklärung*\n			\n				Datenschutzerklärung\n	\n							\n\nMit einem * versehene Felder sind Pflichtfelder und müssen ausgefüllt werden.  \n\n	Was ist 2 + 3*\n	\n						\n									\n\n	\n		\n\n				\n			Address\n			\n				\n				Wenn Sie ein Mensch sind\, füllen Sie dieses Feld nicht aus
URL:https://uv-bb.de/event/unternehmerfruehstueck-vb-sued-am-05-05-26/
LOCATION:Flugplatzbetriebsgesellschaft Welzow mbH\, Flugplatz\, Welzow\, 03119\, Germany
CATEGORIES:VB Süd
ATTACH;FMTTYPE=image/jpeg:https://uv-bb.de/wp-content/uploads/2026/01/Logo-UV-BB.jpg
END:VEVENT
BEGIN:VEVENT
DTSTART;TZID=Europe/Berlin:20260505T090000
DTEND;TZID=Europe/Berlin:20260505T110000
DTSTAMP:20260425T165103
CREATED:20260423T092424Z
LAST-MODIFIED:20260423T092708Z
UID:10002254-1777971600-1777978800@uv-bb.de
SUMMARY:Vereinigung Wirtschaftshof Spandau - UT-Frühstück am 05.05.26
DESCRIPTION:Liebe Mitglieder\, liebe Unternehmerinnen und Unternehmer\,liebe Freunde der Vereinigung Wirtschaftshof Spandau\, \n\n\n\nhiermit laden wir Sie herzlich zum nächsten Unternehmerfrühstück ein. \n\n\n\nDienstag\, 05. Mai 2026\, 09.00 – 11.00 Uhr\, Restaurant & Bar MeilenStein. \n\n\n\nEinzelheiten entnehmen Sie bitte der Einladung. Wir bitten um verbindliche Anmeldung per E-Mail an info@wirtschaftshof-spandau.de bis zum 30. April 2026. \n\n\n\nHerzliche Grüße \n\n\n\nJulia RothGeschäftsstellenleiterinVereinigung Wirtschaftshof Spandau e. V.& Stiftung WirtschaftshofBreite Str. 37\, 13597 BerlinTel.: 030 / 333 65 91www.wirtschaftshof-spandau.de \n\n\n\nFoto: Vereinigung Wirtschaftshof Spandau e.V.
URL:https://uv-bb.de/event/vereinigung-wirtschaftshof-spandau-ut-fruehstueck-am-05-05-26/
CATEGORIES:Allgemein,Verbandsbezirke
ATTACH;FMTTYPE=image/png:https://uv-bb.de/wp-content/uploads/2026/03/Logo-Vereinigung-Wirtschaftshof-Spandau-scaled.png
END:VEVENT
BEGIN:VEVENT
DTSTART;TZID=Europe/Berlin:20260505T180000
DTEND;TZID=Europe/Berlin:20260505T210000
DTSTAMP:20260425T165103
CREATED:20260416T114510Z
LAST-MODIFIED:20260416T114510Z
UID:10002252-1778004000-1778014800@uv-bb.de
SUMMARY:Potsdamer Gespräche am 05.05.26
DESCRIPTION:Weitere Informationen folgen! \n\n\n\nÄnderungen vorbehalten! \n\n\n\nFoto: KI generiert
URL:https://uv-bb.de/event/potsdamer-gespraeche-am-05-05-26/
CATEGORIES:Allgemein,VB West
ATTACH;FMTTYPE=image/jpeg:https://uv-bb.de/wp-content/uploads/2026/01/Logo-Potsdamer-Gespraeche-neu.jpeg
END:VEVENT
END:VCALENDAR