BEGIN:VCALENDAR
VERSION:2.0
PRODID:-//UVBB - ECPv6.15.20//NONSGML v1.0//EN
CALSCALE:GREGORIAN
METHOD:PUBLISH
X-WR-CALNAME:UVBB
X-ORIGINAL-URL:https://uv-bb.de
X-WR-CALDESC:Veranstaltungen für UVBB
REFRESH-INTERVAL;VALUE=DURATION:PT1H
X-Robots-Tag:noindex
X-PUBLISHED-TTL:PT1H
BEGIN:VTIMEZONE
TZID:Europe/Berlin
BEGIN:DAYLIGHT
TZOFFSETFROM:+0100
TZOFFSETTO:+0200
TZNAME:CEST
DTSTART:20250330T010000
END:DAYLIGHT
BEGIN:STANDARD
TZOFFSETFROM:+0200
TZOFFSETTO:+0100
TZNAME:CET
DTSTART:20251026T010000
END:STANDARD
BEGIN:DAYLIGHT
TZOFFSETFROM:+0100
TZOFFSETTO:+0200
TZNAME:CEST
DTSTART:20260329T010000
END:DAYLIGHT
BEGIN:STANDARD
TZOFFSETFROM:+0200
TZOFFSETTO:+0100
TZNAME:CET
DTSTART:20261025T010000
END:STANDARD
BEGIN:DAYLIGHT
TZOFFSETFROM:+0100
TZOFFSETTO:+0200
TZNAME:CEST
DTSTART:20270328T010000
END:DAYLIGHT
BEGIN:STANDARD
TZOFFSETFROM:+0200
TZOFFSETTO:+0100
TZNAME:CET
DTSTART:20271031T010000
END:STANDARD
END:VTIMEZONE
BEGIN:VEVENT
DTSTART;TZID=Europe/Berlin:20260317T093000
DTEND;TZID=Europe/Berlin:20260317T110000
DTSTAMP:20260420T135619
CREATED:20260210T114157Z
LAST-MODIFIED:20260303T081212Z
UID:10001895-1773739800-1773745200@uv-bb.de
SUMMARY:Unternehmerfrühstück VB Südbrandenburg am 17.03.26
DESCRIPTION:Wir laden Sie herzlich zum Unternehmerfrühstück des Verbandsbezirks Südbrandenburg ein.  \n\n\n\nDatum / Uhrzeit:Dienstag\, den 17. März 2026 von 9:30 bis 11:00 Uhr \n\n\n\nOrt:Flugplatzbetriebsgesellschaft Welzow mbH\, Flugplatz\, 03119 WelzowZufahrt von Osten\, ab Welzow Stadt \n\n\n\n \n\n\n\nGesprächsthemen zur Information und zum Netzwerken: \n\n\n\nFlugplatz Welzow – Aktuell und ZukunftsvorhabenFrank Steckling\, Flugplatzbetriebsgesellschaft Welzow mbH \n\n\n\n\n\n\n\nWelche Vorteile bringt die Signal-Iduna für UnternehmenVolker Sagitz\, Signal Iduna \n\n\n\nUnternehmensförderung „Unternehmen Revier“ und Blick und die ZukunftNorman Müller / Andreas Elsner\, Wirtschaftsregion Lausitz \n\n\n\nWir freuen uns auf Sie und bitten um Ihre verbindliche Anmeldung bis zum 13. März 2026 über cottbus@uv-bb.de oder nutzen Sie bitte den Link weiter unten. \n\n\n\nDie Teilnahme ist kostenlos. \n\n\n\nMit freundlichen Grüßen \n\n\n\nHorst BöschowMitglied des PräsidiumsRegionalmanager Verbandsbezirk Südbrandenburg \n\n\n\nÄnderungen vorbehalten! \n\n\n\nFoto: UVBB e.V. \n\n\n\n\n\n\n\n\n\n\n\n \n\n\n\nUm verbindliche Anmeldung bis zum 13. März 2026 wird gebeten \n\n\n\n	\n	\n	\n	\n    \n\n	    \n    \n        Anmeldungen sind für diese Veranstaltung geschlossen
URL:https://uv-bb.de/event/unternehmerfruehstueck-vb-sued-am-17-03-26/
LOCATION:Flugplatzbetriebsgesellschaft Welzow mbH\, Flugplatz\, Welzow\, 03119\, Germany
CATEGORIES:Allgemein,VB Süd
ATTACH;FMTTYPE=image/jpeg:https://uv-bb.de/wp-content/uploads/2026/01/Logo-UV-BB.jpg
END:VEVENT
END:VCALENDAR