BEGIN:VCALENDAR
VERSION:2.0
PRODID:-//UVBB - ECPv6.15.20//NONSGML v1.0//EN
CALSCALE:GREGORIAN
METHOD:PUBLISH
X-WR-CALNAME:UVBB
X-ORIGINAL-URL:https://uv-bb.de
X-WR-CALDESC:Veranstaltungen für UVBB
REFRESH-INTERVAL;VALUE=DURATION:PT1H
X-Robots-Tag:noindex
X-PUBLISHED-TTL:PT1H
BEGIN:VTIMEZONE
TZID:Europe/Berlin
BEGIN:DAYLIGHT
TZOFFSETFROM:+0100
TZOFFSETTO:+0200
TZNAME:CEST
DTSTART:20250330T010000
END:DAYLIGHT
BEGIN:STANDARD
TZOFFSETFROM:+0200
TZOFFSETTO:+0100
TZNAME:CET
DTSTART:20251026T010000
END:STANDARD
BEGIN:DAYLIGHT
TZOFFSETFROM:+0100
TZOFFSETTO:+0200
TZNAME:CEST
DTSTART:20260329T010000
END:DAYLIGHT
BEGIN:STANDARD
TZOFFSETFROM:+0200
TZOFFSETTO:+0100
TZNAME:CET
DTSTART:20261025T010000
END:STANDARD
BEGIN:DAYLIGHT
TZOFFSETFROM:+0100
TZOFFSETTO:+0200
TZNAME:CEST
DTSTART:20270328T010000
END:DAYLIGHT
BEGIN:STANDARD
TZOFFSETFROM:+0200
TZOFFSETTO:+0100
TZNAME:CET
DTSTART:20271031T010000
END:STANDARD
END:VTIMEZONE
BEGIN:VEVENT
DTSTART;TZID=Europe/Berlin:20260303T180000
DTEND;TZID=Europe/Berlin:20260303T200000
DTSTAMP:20260420T123142
CREATED:20260106T094452Z
LAST-MODIFIED:20260225T095428Z
UID:10001868-1772560800-1772568000@uv-bb.de
SUMMARY:Potsdamer Gespräche am 03.03.26
DESCRIPTION:Auch im Jahr 2026 möchten wir die Veranstaltungsreihe der „Potsdamer Gespräche“ im Unternehmerverband Brandenburg-Berlin (UVBB) fortsetzen. Die Gespräche sind ein wichtiger Bestandteil unseres Netzwerkes und bieten Gelegenheit zum Austausch und zur Diskussion aktueller Themen.  \n\n\n\nFür die erste Veranstaltung in diesem Jahr freuen wir uns besonders\, Frau Noosha Aubel\, die Oberbürgermeisterin der Landeshauptstadt Potsdam\, als Gast begrüßen zu dürfen. Der Termin am 03. März 2026 fällt auf den 130. Tag ihrer Amtszeit und ist somit ein bedeutender Meilenstein. Wir erwarten mit Spannung ihren Einblick und Rückblick auf die ersten Monate im neuen Amt und freuen uns darauf\, gemeinsam mit ihr über die bisherigen Entwicklungen und Erfahrungen zu sprechen. \n\n\n\nDatum / Uhrzeit: 03. März 2026\, 18 Uhr (Einlass ab 17.45 Uhr) \n\n\n\nOrt:BARMER\, Friedrich-Ebert-Str. 8\, 14467 Potsdam (Wilhelmgalerie)\, 2. OG\, Veranstaltungsbereich der BARMER \n\n\n\nFolgender Ablauf ist angedacht:18:00 Uhr – Begrüßung18:15 Uhr – Impulsvortrag Noosha Aubel\, Oberbürgermeisterin der Landeshauptstadt Potsdam18:45 Uhr – offenes Netzwerken bei einem kleinen Imbiss \n\n\n\nLeider ist eine Anmeldung zu dieser Veranstaltung aktuell nicht mehr möglich\, da die verfügbaren Plätze bereits vergeben wurden.Wir bitten um Ihr Verständnis und danken Ihnen für Ihr Interesse an der Veranstaltung. \n\n\n\nNico Danneberg1. Vizepräsident VB Westbrandenburg \n\n\n\nFoto: KI generiert
URL:https://uv-bb.de/event/potsdamer-gespraeche-am-03-03-26/
LOCATION:BARMER\, Friedrich-Ebert-Straße 8 (Wilhelmgalerie)\, Potsdam\, Brandenburg\, 14467\, Deutschland
CATEGORIES:VB West
ATTACH;FMTTYPE=image/jpeg:https://uv-bb.de/wp-content/uploads/2026/01/Logo-Potsdamer-Gespraeche-neu.jpeg
END:VEVENT
END:VCALENDAR