BEGIN:VCALENDAR
VERSION:2.0
PRODID:-//UVBB - ECPv6.15.20//NONSGML v1.0//EN
CALSCALE:GREGORIAN
METHOD:PUBLISH
X-WR-CALNAME:UVBB
X-ORIGINAL-URL:https://uv-bb.de
X-WR-CALDESC:Veranstaltungen für UVBB
REFRESH-INTERVAL;VALUE=DURATION:PT1H
X-Robots-Tag:noindex
X-PUBLISHED-TTL:PT1H
BEGIN:VTIMEZONE
TZID:Europe/Berlin
BEGIN:DAYLIGHT
TZOFFSETFROM:+0100
TZOFFSETTO:+0200
TZNAME:CEST
DTSTART:20250330T010000
END:DAYLIGHT
BEGIN:STANDARD
TZOFFSETFROM:+0200
TZOFFSETTO:+0100
TZNAME:CET
DTSTART:20251026T010000
END:STANDARD
BEGIN:DAYLIGHT
TZOFFSETFROM:+0100
TZOFFSETTO:+0200
TZNAME:CEST
DTSTART:20260329T010000
END:DAYLIGHT
BEGIN:STANDARD
TZOFFSETFROM:+0200
TZOFFSETTO:+0100
TZNAME:CET
DTSTART:20261025T010000
END:STANDARD
BEGIN:DAYLIGHT
TZOFFSETFROM:+0100
TZOFFSETTO:+0200
TZNAME:CEST
DTSTART:20270328T010000
END:DAYLIGHT
BEGIN:STANDARD
TZOFFSETFROM:+0200
TZOFFSETTO:+0100
TZNAME:CET
DTSTART:20271031T010000
END:STANDARD
END:VTIMEZONE
BEGIN:VEVENT
DTSTART;TZID=Europe/Berlin:20260302T130000
DTEND;TZID=Europe/Berlin:20260302T143000
DTSTAMP:20260420T135710
CREATED:20251211T074709Z
LAST-MODIFIED:20260106T130057Z
UID:10002189-1772456400-1772461800@uv-bb.de
SUMMARY:UVBB - Teamsitzung VB Westbrandenburg am 02.03.26\, Zoom
DESCRIPTION:Änderungen vorbehalten! \n\n\n\nFoto: UVBB
URL:https://uv-bb.de/event/uvbb-teamsitzung-vb-west-am-02-03-26/
CATEGORIES:VB West
ATTACH;FMTTYPE=image/jpeg:https://uv-bb.de/wp-content/uploads/2019/11/cropped-LOGO_UVBB2019_RGB-square.jpg
END:VEVENT
BEGIN:VEVENT
DTSTART;TZID=Europe/Berlin:20260302T180000
DTEND;TZID=Europe/Berlin:20260302T203000
DTSTAMP:20260420T135710
CREATED:20260114T105139Z
LAST-MODIFIED:20260128T121016Z
UID:10002226-1772474400-1772483400@uv-bb.de
SUMMARY:Wahlforum zur Landratswahl des Landkreises Spree-Neiße am 02.03.26
DESCRIPTION:Am 08.03.2026 wählen die Einwohner des Landkreises SPN eine neue Landrätin oder einen neuen Landrat. Wir bieten Ihnen zwei Wahlforen an. \n\n\n\n1. Do.\, 19.02.2026\, 18.00 Uhr\, Flugplatz Drewitz (Gral) \n\n\n\n2. Mo.\, 02.03.2026\, 18.00 Uhr\, Drebkau (Bürgerhaus Kausche) – zur Anmeldung \n\n\n\nInsgesamt stellen sich vier Kandidaten zur Wahl: \n\n\n\n\nHeiko Jahn (SPD)\, Geschäftsführer der Wirtschaftsregion Lausitz GmbH (WRL). War zuvor Dezernent im Landkreis Dahme-Spreewald tätig und kümmerte sich in dieser Funktion um die Bereiche Wirtschaft\, Finanzen\, Sicherheit\, Kreisentwicklung und europäische Kooperationen. Sein Berufsleben hatte Jahn einst als Schweißer in den Braunkohlekraftwerken der Lausitz begonnen.\n\n\n\nMartin Heusler (CDU\, unterstützt von der FDP Lausitz)\, ist Stabsoffizier der Reserve und derzeit beim Energiekonzern Leag tätig\, bei dem er das Konferenzcenter Spreewald in Lübbenau leitet. Gründer von QLEE (Qualifizierungsverbund in der Lausitz für Erneuerbare Energien)\n\n\n\nChristine Beyer (AfD)\, kommt aus der Wirtschaft und arbeitet als Produktionsmanagerin. Zudem ist sie Abgeordnete im Kreistag Spree-Neiße und Stadtverordnete in Forst.\n\n\n\nRobert Hanschke (Die PARTEI)\, Lehrer\n\n\n\n\nDer bisherige Landrat Harald Altekrüger tritt aus Altersgründen nicht mehr an. \n\n\n\nDamit Sie sich einen umfassenden Eindruck über die Qualitäten und Eigenschaften der Bewerber verschaffen können\, haben wir für Sie zwei Wahlforen organisiert. Zunächst werden die Kandidaten zu wirtschaftspolitischen Themen des Landkreises befragt. Hier geht es z.B. darum\, welche Visionen und Strategien sie für die wirtschaftliche Entwicklung des Landkreises haben\, wie sie der prognostizierten negativen Demographieentwicklung entgegenwirken werden und welche Schwerpunkte sie in ihrer zukünftigen Funktion setzen werden. Die Themen Net Zero Valley\, Energiewirtschaft\, Bürokratieabbau& Digitalisierung und Fachkräftemangel werden Inhalte der Diskussion sein. Sehr gern können Sie auch Ihre ganz individuellen Fragen stellen. Für Getränke und Imbiss ist gesorgt. \n\n\n\n \n\n\n\nFoto: UVBB
URL:https://uv-bb.de/event/wahlforum-landrat-spree-neisse-am-02-03-26/
LOCATION:Bürgerhaus Kausche\, An den Steien 7\, Drebkau / Kausche\, 03116\, Deutschland
CATEGORIES:VB Süd
ATTACH;FMTTYPE=image/jpeg:https://uv-bb.de/wp-content/uploads/2026/01/Logo-UV-BB.jpg
END:VEVENT
END:VCALENDAR