BEGIN:VCALENDAR
VERSION:2.0
PRODID:-//UVBB - ECPv6.15.20//NONSGML v1.0//EN
CALSCALE:GREGORIAN
METHOD:PUBLISH
X-WR-CALNAME:UVBB
X-ORIGINAL-URL:https://uv-bb.de
X-WR-CALDESC:Veranstaltungen für UVBB
REFRESH-INTERVAL;VALUE=DURATION:PT1H
X-Robots-Tag:noindex
X-PUBLISHED-TTL:PT1H
BEGIN:VTIMEZONE
TZID:Europe/Berlin
BEGIN:DAYLIGHT
TZOFFSETFROM:+0100
TZOFFSETTO:+0200
TZNAME:CEST
DTSTART:20250330T010000
END:DAYLIGHT
BEGIN:STANDARD
TZOFFSETFROM:+0200
TZOFFSETTO:+0100
TZNAME:CET
DTSTART:20251026T010000
END:STANDARD
BEGIN:DAYLIGHT
TZOFFSETFROM:+0100
TZOFFSETTO:+0200
TZNAME:CEST
DTSTART:20260329T010000
END:DAYLIGHT
BEGIN:STANDARD
TZOFFSETFROM:+0200
TZOFFSETTO:+0100
TZNAME:CET
DTSTART:20261025T010000
END:STANDARD
BEGIN:DAYLIGHT
TZOFFSETFROM:+0100
TZOFFSETTO:+0200
TZNAME:CEST
DTSTART:20270328T010000
END:DAYLIGHT
BEGIN:STANDARD
TZOFFSETFROM:+0200
TZOFFSETTO:+0100
TZNAME:CET
DTSTART:20271031T010000
END:STANDARD
END:VTIMEZONE
BEGIN:VEVENT
DTSTART;TZID=Europe/Berlin:20260221T093000
DTEND;TZID=Europe/Berlin:20260221T180000
DTSTAMP:20260425T180925
CREATED:20260114T093121Z
LAST-MODIFIED:20260127T085819Z
UID:10002225-1771666200-1771696800@uv-bb.de
SUMMARY:UVBB-Mitglied Elster-Stüble - Messestand in Herzberg am 21. und 22.02.26
DESCRIPTION:Besuchen Sie Frau Dorothee Zopp an ihrem Stand zur 2. Alternativen Lebens- & Gesundheitsmesse Elbe-Elster in der Elsterlandhalle in Herzberg / Elster. Lernen Sie Fr. Zopp persönlich kennen\, stellen Fragen und entdecken erste Impulse ihrer Arbeit – offen und ohne Druck. \n\n\n\nAlternative Lebens- und Gesundheitsmesse – Flyer 1 \n\n\n\nAlternative Lebens- und Gesundheitsmesse – Flyer 2 \n\n\n\nWeitere Veranstaltungen in der Elster-Stüble \n\n\n\n \n\n\n\nFoto: Logo Elster-Stüble
URL:https://uv-bb.de/event/elster-stueble-mit-messestand-in-herzberg-am-21-und-22-02-26/
LOCATION:Elsterlandhalle\, Wilhelm-Pieck-Ring 9\, Herzberg / Elster\, 04916\, Deutschland
CATEGORIES:VB Süd
ATTACH;FMTTYPE=image/png:https://uv-bb.de/wp-content/uploads/2025/09/Newsletter-2025-September-Neues-Mitglied-Elster-Stueble-Fr.-Zopp-Bild-2.png
END:VEVENT
END:VCALENDAR