BEGIN:VCALENDAR
VERSION:2.0
PRODID:-//UVBB - ECPv6.15.20//NONSGML v1.0//EN
CALSCALE:GREGORIAN
METHOD:PUBLISH
X-WR-CALNAME:UVBB
X-ORIGINAL-URL:https://uv-bb.de
X-WR-CALDESC:Veranstaltungen für UVBB
REFRESH-INTERVAL;VALUE=DURATION:PT1H
X-Robots-Tag:noindex
X-PUBLISHED-TTL:PT1H
BEGIN:VTIMEZONE
TZID:Europe/Berlin
BEGIN:DAYLIGHT
TZOFFSETFROM:+0100
TZOFFSETTO:+0200
TZNAME:CEST
DTSTART:20160327T010000
END:DAYLIGHT
BEGIN:STANDARD
TZOFFSETFROM:+0200
TZOFFSETTO:+0100
TZNAME:CET
DTSTART:20161030T010000
END:STANDARD
BEGIN:DAYLIGHT
TZOFFSETFROM:+0100
TZOFFSETTO:+0200
TZNAME:CEST
DTSTART:20170326T010000
END:DAYLIGHT
BEGIN:STANDARD
TZOFFSETFROM:+0200
TZOFFSETTO:+0100
TZNAME:CET
DTSTART:20171029T010000
END:STANDARD
BEGIN:DAYLIGHT
TZOFFSETFROM:+0100
TZOFFSETTO:+0200
TZNAME:CEST
DTSTART:20180325T010000
END:DAYLIGHT
BEGIN:STANDARD
TZOFFSETFROM:+0200
TZOFFSETTO:+0100
TZNAME:CET
DTSTART:20181028T010000
END:STANDARD
END:VTIMEZONE
BEGIN:VEVENT
DTSTART;VALUE=DATE:20171213
DTEND;VALUE=DATE:20171214
DTSTAMP:20260420T115019
CREATED:20191104T135935Z
LAST-MODIFIED:20191104T135935Z
UID:10001359-1513123200-1513209599@uv-bb.de
SUMMARY:Glühweinabend zum Jahresausklang am 13.12.2017
DESCRIPTION:Teltow| Wir laden Sie herzlich zu unserem traditionellen „Glühweinabend“ der UV BB – Veranstaltungsreihen Potsdamer Gespräche und TelTalk ein.\n13. Dezember 2017\, ab 18.00 Uhrpentahotel Berlin-PotsdamWarthestr. 2014513 Teltow\nIm angenehmen Ambiente des Hotels möchten wir unsere Mitglieder und Gäste auf die Weihnachtszeit und den Jahreswechsel einstimmen und das Verbandsjahr 2017 Revue passieren lassen. Gern treffen wir Sie persönlich\, um zu erfahren\, wo drückt Ihnen der Schuh\, wo und wie können wir Ihnen helfen\, was können wir für Sie tun.\nFür diese Veranstaltung bitten wir um einen Unkostenbeitrag in Höhe von 08\,00 EUR zzgl. USt. für UV-Mitglieder und 20\,00 EUR zzgl. USt für Nichtmitglieder. Sie erhalten dann eine Rechnung von uns.\nAus organisatorischen Gründen ist eine vorherige Anmeldung bis zum 11. Dezember 2017 zwingend erforderlich.\nStorno/Nichtteilnahme: Eine Stornierung der Anmeldung ist bis zum 11. Dezember 2017 kostenfrei möglich. Bei verspäteter Abmeldung oder Nichtteilnahme bitten wir um Verständnis\, dass wir Ihnen den Unkostenbeitrag zzgl. USt. in Rechnung stellen.\nWir freuen uns auf einen interessanten Abend!
URL:https://uv-bb.de/event/gluehweinabend-zum-jahresausklang-am-13-12-2017/
END:VEVENT
BEGIN:VEVENT
DTSTART;VALUE=DATE:20171213
DTEND;VALUE=DATE:20171214
DTSTAMP:20260420T115019
CREATED:20191104T135935Z
LAST-MODIFIED:20191104T141802Z
UID:10001358-1513123200-1513209599@uv-bb.de
SUMMARY:Arbeitsrechtsfrühstück am 13.12.17 zum Thema: Geschäftsführerhaftung
DESCRIPTION:Berlin| Unser UV BB-Mitglied Goldenstein & Partner möchte Sie sehr herzlich zum Arbeitsrechtsfrühstück einladen.\n13. Dezember 2017\, 9 Uhr Büro der Partnerkanzlei Knappworst & PartnerJoachimsthaler Str. 2410719 Berlin\nGastreferentin: Frau Ass. Jur. Iris Pfeifer\, Expertin zu den Versicherungen (D&O Versicherungen etc.) von der Funk Gruppe\nThema: Geschäftsführerhaftung – Haftungsfälle in der GmbH\, deren Vermeidung und Haftungsbegrenzungen durch geeignete Versicherungen\nAnmeldungen bitte bis 01. Dezember 2017 erbeten!\nWeitere Informationen erhalten Sie von der Kanzlei Goldenstein & Partner Tel.-Nr.: 0331-298200 Mail: info@ra-goldenstein.de
URL:https://uv-bb.de/event/arbeitsrechtsfruehstueck-am-13-12-17-zum-thema-geschaeftsfuehrerhaftung/
END:VEVENT
END:VCALENDAR