BEGIN:VCALENDAR
VERSION:2.0
PRODID:-//UVBB - ECPv6.15.20//NONSGML v1.0//EN
CALSCALE:GREGORIAN
METHOD:PUBLISH
X-ORIGINAL-URL:https://uv-bb.de
X-WR-CALDESC:Veranstaltungen für UVBB
REFRESH-INTERVAL;VALUE=DURATION:PT1H
X-Robots-Tag:noindex
X-PUBLISHED-TTL:PT1H
BEGIN:VTIMEZONE
TZID:Europe/Berlin
BEGIN:DAYLIGHT
TZOFFSETFROM:+0100
TZOFFSETTO:+0200
TZNAME:CEST
DTSTART:20160327T010000
END:DAYLIGHT
BEGIN:STANDARD
TZOFFSETFROM:+0200
TZOFFSETTO:+0100
TZNAME:CET
DTSTART:20161030T010000
END:STANDARD
BEGIN:DAYLIGHT
TZOFFSETFROM:+0100
TZOFFSETTO:+0200
TZNAME:CEST
DTSTART:20170326T010000
END:DAYLIGHT
BEGIN:STANDARD
TZOFFSETFROM:+0200
TZOFFSETTO:+0100
TZNAME:CET
DTSTART:20171029T010000
END:STANDARD
BEGIN:DAYLIGHT
TZOFFSETFROM:+0100
TZOFFSETTO:+0200
TZNAME:CEST
DTSTART:20180325T010000
END:DAYLIGHT
BEGIN:STANDARD
TZOFFSETFROM:+0200
TZOFFSETTO:+0100
TZNAME:CET
DTSTART:20181028T010000
END:STANDARD
END:VTIMEZONE
BEGIN:VEVENT
DTSTART;VALUE=DATE:20171212
DTEND;VALUE=DATE:20171213
DTSTAMP:20260420T132333
CREATED:20191104T135935Z
LAST-MODIFIED:20191104T135935Z
UID:10001360-1513036800-1513123199@uv-bb.de
SUMMARY:Industriemuseum Region Teltow e.V. - Vortrag am 12.12.2017
DESCRIPTION:Teltow| Das Industriemuseum der Region Teltow hat sich zur Aufgabe gestellt\, die Industrieentwicklung in unserem Umfeld mit ihren Ergebnissen in Forschung\, Entwicklung und Produktion zu bewahren und zu präsentieren.\nDas Industriemuseum ist ein kulturelles Zentrum der Region. Es führt vielfältige Veranstaltungen zu Themen wie– Technik – Geschichte– Unternehmen – Technik – Ausbildungsmöglichkeiten– berufliche Perspektiven in der Region heute– Kunst und Kultursowie weitere Themen durch.\nDie nächste Veranstaltung findet statt am:\n12. Dezember 2017\, 16 UhrIndustriemuseum Region Teltow e.V.Oderstr. 23 – 2514513 TeltowTel.: 03328 – 3369088www.imt-museum.de\nThema: Ferrari electronic – ein Partner für optimale Kommunikation\nReferent: Herr Stephan Leschke\, Ferrari electronic AG Teltow\nEine Teilnahme an dieser Veranstaltung ist kostenfrei.\nEine Spende der Besucher hilft bei der gemeinnützigen Arbeit.
URL:https://uv-bb.de/event/industriemuseum-region-teltow-e-v-vortrag-am-12-12-2017/
END:VEVENT
BEGIN:VEVENT
DTSTART;VALUE=DATE:20171212
DTEND;VALUE=DATE:20171213
DTSTAMP:20260420T132333
CREATED:20191104T135935Z
LAST-MODIFIED:20191104T141802Z
UID:10001361-1513036800-1513123199@uv-bb.de
SUMMARY:Berliner Gespräche - Jahresausklang bei AUDITA am 12.12.17
DESCRIPTION:Berlin| Wir laden Sie herzlich zur nächsten Veranstaltung der Berliner Gepräche im Unternehmerverband Brandenburg-Berlin e.V. zum Thema: "Highlights Steueränderungen 2018" mit anschließendem Ausklang auf dem Weihnachtsmarkt am Gendarmenmarkt ein.\n12. Dezember 2017\, ab 17.30 UhrAUDUTA GmbH SteuerberatungsgesellschaftCharlottenstr. 8010117 Berlin4. OG\nWeitere Informationen\nFür Mitglieder ist die Teilnahme kostenfrei\, Nichtmitglieder zahlen einen Teilnahmebeitrag von 15\,00 EUR (12.60 EUR netto zzgl. 2\,40 EUR USt). Sie erhalten nach Anmeldung eine Rechnung.\nVerbindliche Anmeldung bis 08. Dezember 2017 erbeten!\nOhne schriftliche Anmeldung können Sie an der Veranstaltung nicht teilnehmen.  \n12-12-17-Berliner_Gespraeche-Einladung-Jahresausklang.pdf \n12-12-17-Berliner_Gespraeche-Einladung-Jahresausklang.pdf
URL:https://uv-bb.de/event/berliner-gespraeche-jahresausklang-bei-audita-am-12-12-17/
END:VEVENT
END:VCALENDAR