BEGIN:VCALENDAR
VERSION:2.0
PRODID:-//UVBB - ECPv6.15.20//NONSGML v1.0//EN
CALSCALE:GREGORIAN
METHOD:PUBLISH
X-ORIGINAL-URL:https://uv-bb.de
X-WR-CALDESC:Veranstaltungen für UVBB
REFRESH-INTERVAL;VALUE=DURATION:PT1H
X-Robots-Tag:noindex
X-PUBLISHED-TTL:PT1H
BEGIN:VTIMEZONE
TZID:Europe/Berlin
BEGIN:DAYLIGHT
TZOFFSETFROM:+0100
TZOFFSETTO:+0200
TZNAME:CEST
DTSTART:20160327T010000
END:DAYLIGHT
BEGIN:STANDARD
TZOFFSETFROM:+0200
TZOFFSETTO:+0100
TZNAME:CET
DTSTART:20161030T010000
END:STANDARD
BEGIN:DAYLIGHT
TZOFFSETFROM:+0100
TZOFFSETTO:+0200
TZNAME:CEST
DTSTART:20170326T010000
END:DAYLIGHT
BEGIN:STANDARD
TZOFFSETFROM:+0200
TZOFFSETTO:+0100
TZNAME:CET
DTSTART:20171029T010000
END:STANDARD
BEGIN:DAYLIGHT
TZOFFSETFROM:+0100
TZOFFSETTO:+0200
TZNAME:CEST
DTSTART:20180325T010000
END:DAYLIGHT
BEGIN:STANDARD
TZOFFSETFROM:+0200
TZOFFSETTO:+0100
TZNAME:CET
DTSTART:20181028T010000
END:STANDARD
END:VTIMEZONE
BEGIN:VEVENT
DTSTART;VALUE=DATE:20171206
DTEND;VALUE=DATE:20171207
DTSTAMP:20260420T121442
CREATED:20191104T135935Z
LAST-MODIFIED:20191104T141802Z
UID:10001365-1512518400-1512604799@uv-bb.de
SUMMARY:Arbeitsrechtsfrühstück am 06.12.17 zum Thema: Geschäftsführerhaftung
DESCRIPTION:Potsdam| Unser UV BB-Mitglied Goldenstein & Partner möchte Sie sehr herzlich zum Arbeitsrechtsfrühstück einladen.\n06. Dezember 2017\, 9 Uhr Villa Quistorp Hegelallee 1 14467 Potsdam\nGastreferentin: Frau Ass. Jur. Iris Pfeifer\, Expertin zu den Versicherungen (D&O Versicherung etc.) von der Funk Gruppe\nThema: Geschäftsführerhaftung – Haftungsfälle in der GmbH\, deren Vermeidung und Haftungsbegrenzung durch geeignete Versicherungen\nAnmeldungen bitte bis 01. Dezember 2017 erbeten!\nWeitere Informationen erhalten Sie von der Kanzlei Goldenstein & Partner Tel.-Nr.: 0331-298200 Mail: info@ra-goldenstein.de
URL:https://uv-bb.de/event/arbeitsrechtsfruehstueck-am-06-12-17-zum-thema-geschaeftsfuehrerhaftung/
END:VEVENT
END:VCALENDAR