BEGIN:VCALENDAR
VERSION:2.0
PRODID:-//UVBB - ECPv6.15.20//NONSGML v1.0//EN
CALSCALE:GREGORIAN
METHOD:PUBLISH
X-WR-CALNAME:UVBB
X-ORIGINAL-URL:https://uv-bb.de
X-WR-CALDESC:Veranstaltungen für UVBB
REFRESH-INTERVAL;VALUE=DURATION:PT1H
X-Robots-Tag:noindex
X-PUBLISHED-TTL:PT1H
BEGIN:VTIMEZONE
TZID:Europe/Berlin
BEGIN:DAYLIGHT
TZOFFSETFROM:+0100
TZOFFSETTO:+0200
TZNAME:CEST
DTSTART:20150329T010000
END:DAYLIGHT
BEGIN:STANDARD
TZOFFSETFROM:+0200
TZOFFSETTO:+0100
TZNAME:CET
DTSTART:20151025T010000
END:STANDARD
BEGIN:DAYLIGHT
TZOFFSETFROM:+0100
TZOFFSETTO:+0200
TZNAME:CEST
DTSTART:20160327T010000
END:DAYLIGHT
BEGIN:STANDARD
TZOFFSETFROM:+0200
TZOFFSETTO:+0100
TZNAME:CET
DTSTART:20161030T010000
END:STANDARD
BEGIN:DAYLIGHT
TZOFFSETFROM:+0100
TZOFFSETTO:+0200
TZNAME:CEST
DTSTART:20170326T010000
END:DAYLIGHT
BEGIN:STANDARD
TZOFFSETFROM:+0200
TZOFFSETTO:+0100
TZNAME:CET
DTSTART:20171029T010000
END:STANDARD
END:VTIMEZONE
BEGIN:VEVENT
DTSTART;VALUE=DATE:20160307
DTEND;VALUE=DATE:20160308
DTSTAMP:20260420T134228
CREATED:20191104T135952Z
LAST-MODIFIED:20191104T135952Z
UID:10001508-1457308800-1457395199@uv-bb.de
SUMMARY:Potsdamer Gespräche - Das Mitgliederforum des UV BB - März 2016
DESCRIPTION:Potsdam| Zur nächsten Runde unserer Potsdamer Gespräche wird Frau Gerlinde Grass\, Beraterin bei der ZAB ZukunftsAgentur Brandenburg GmbH vom Projekt Servicestelle Arbeitswelt und Elternzeit über „Das neue Bundeselterngeld- und Elternzeitgesetzes in der betrieblichen Praxis – Termine\, Fristen und Verantwortlichkeiten“ informieren.\nAußerdem stellt uns Frau Caren Peter\, Mentaltrainerin und Businesscoach\, die Initiative „100 Champions für Brandenburg“ mit ihren außergewöhnlichen Wirkungen bei AZUBIs und jungen Mitarbeitern vor.\nMontag\, 07. März 2016\, 18 UhrVCAT Consulting GmbHAugust-Bebel-Str. 26 – 53Medienhaus14482 Potsdam\nWenn Sie das Angebot zur Unternehmensvorstellung auf einer der nächsten Veranstaltungen nutzen möchten\, setzen Sie sich bitte mit der UV-Geschäftsstelle Potsdam in Verbindung.\nVerbindliche Anmeldung bis 05. März erbeten.
URL:https://uv-bb.de/event/potsdamer-gespraeche-das-mitgliederforum-des-uv-bb-maerz-2016/
END:VEVENT
END:VCALENDAR