BEGIN:VCALENDAR
VERSION:2.0
PRODID:-//UVBB - ECPv6.15.20//NONSGML v1.0//EN
CALSCALE:GREGORIAN
METHOD:PUBLISH
X-ORIGINAL-URL:https://uv-bb.de
X-WR-CALDESC:Veranstaltungen für UVBB
REFRESH-INTERVAL;VALUE=DURATION:PT1H
X-Robots-Tag:noindex
X-PUBLISHED-TTL:PT1H
BEGIN:VTIMEZONE
TZID:Europe/Berlin
BEGIN:DAYLIGHT
TZOFFSETFROM:+0100
TZOFFSETTO:+0200
TZNAME:CEST
DTSTART:20150329T010000
END:DAYLIGHT
BEGIN:STANDARD
TZOFFSETFROM:+0200
TZOFFSETTO:+0100
TZNAME:CET
DTSTART:20151025T010000
END:STANDARD
BEGIN:DAYLIGHT
TZOFFSETFROM:+0100
TZOFFSETTO:+0200
TZNAME:CEST
DTSTART:20160327T010000
END:DAYLIGHT
BEGIN:STANDARD
TZOFFSETFROM:+0200
TZOFFSETTO:+0100
TZNAME:CET
DTSTART:20161030T010000
END:STANDARD
BEGIN:DAYLIGHT
TZOFFSETFROM:+0100
TZOFFSETTO:+0200
TZNAME:CEST
DTSTART:20170326T010000
END:DAYLIGHT
BEGIN:STANDARD
TZOFFSETFROM:+0200
TZOFFSETTO:+0100
TZNAME:CET
DTSTART:20171029T010000
END:STANDARD
END:VTIMEZONE
BEGIN:VEVENT
DTSTART;VALUE=DATE:20160224
DTEND;VALUE=DATE:20160225
DTSTAMP:20260420T121431
CREATED:20191104T135952Z
LAST-MODIFIED:20191104T135952Z
UID:10001509-1456272000-1456358399@uv-bb.de
SUMMARY:BER BusinessClub des UV BB - Februar
DESCRIPTION:Schönefeld | Jahresauftakt des BER BusinessClub des Unternehmerverbandes Brandenburg-Berlin e.V. zum Thema: "Mindestlohn 2.0 – update" und "Neuerungen im Steuerrecht 2016"\n24. Februar 2016\, 18.30 UhrAOK Aircenter ServicesWilly-Brandt-Platz 212529 Schönefeld\nNach einer kurzen Begrüßung durch Herrn Dr. Feske von der AUDITA Unternehmensgruppe stellt Frau Ines Kiebler\, Niederlassungsleiterin für den Landkreis Dahme-Spreewald und unsere Gastgeberin\, ein neues Erfolgsprodukt\, die App „FitMit AOK“ kurz vor.\nDanach erwarten Sie folgende Themen:\n1. Nach Einführung des Mindestlohnes: wo stehen wir? Seit dem ersten Vortrag im April 2015 sind einige Monate vergangen. Wir sprechen über Erfahrungen mit dem Mindestlohn und wo den Unternehmern tatsächlich der Schuh drückt. Einige Schwerpunkte sind:\n– Mindestlohn allgemein\n– Mindestlohn und Arbeitszeitkonten\n– Dokumentationspflichten\n– Durchgriffshaftung (Risiko für Unternehmen\, die Werkunternehmer einsetzen)\nEs referiert Herr Nicolas Roggel\, Fachanwalt für Arbeitsrecht\, von der Kanzlei K&L Gates Rechtsanwälte Notare in Berlin Mitte.\n2. Dr. Feske von der AUDITA erläutert zum Jahreswechsel eingetretene und in 2016 noch zu erwartende Änderungen im Steuerrecht.\nIm Anschluss haben wir wie immer Zeit\, Kontakte zu knüpfen und zu pflegen. Wir möchten mit Ihnen bei einem Glas Prosecco und einem kleinen Imbiss netzwerken und diskutieren. Das AUDITA Team lädt Sie dazu herzlich ein.\nMöchten Sie sich und Ihr Mitgliedsunternehmen bei einer der nächsten Veranstaltungen einmal gesondert vorstellen\, sprechen Sie uns bitte an.\nAus organisatorischen Gründen ist eine vorherige Anmeldung zwingend erforderlich. Nutzen Sie bitte dafür das Antwortformular.\nACHTUNG! Die Teilnahme ist für Nichtmitglieder kostenpflichtig. Es ist ein Beitrag in Höhe von 15\,00 EUR zzgl. USt zu entrichten. Sie erhalten vom Unternehmerverband Brandenburg-Berlin e.V. eine Rechnung.\nStorno/Nichtteilnahme: Eine Stornierung der Anmeldung ist bis zum 19.02.2016 kostenfrei möglich. Bei verspäteter Abmeldung oder Nichtteilnahme müssen wir Ihnen eine no-show-Gebühr in Höhe des Teilnahmebeitrages zzgl. USt. in Rechnung stellen. Wir bitten um Verständnis.
URL:https://uv-bb.de/event/ber-businessclub-des-uv-bb-februar/
END:VEVENT
END:VCALENDAR