BEGIN:VCALENDAR
VERSION:2.0
PRODID:-//UVBB - ECPv6.15.20//NONSGML v1.0//EN
CALSCALE:GREGORIAN
METHOD:PUBLISH
X-WR-CALNAME:UVBB
X-ORIGINAL-URL:https://uv-bb.de
X-WR-CALDESC:Veranstaltungen für UVBB
REFRESH-INTERVAL;VALUE=DURATION:PT1H
X-Robots-Tag:noindex
X-PUBLISHED-TTL:PT1H
BEGIN:VTIMEZONE
TZID:Europe/Berlin
BEGIN:DAYLIGHT
TZOFFSETFROM:+0100
TZOFFSETTO:+0200
TZNAME:CEST
DTSTART:20140330T010000
END:DAYLIGHT
BEGIN:STANDARD
TZOFFSETFROM:+0200
TZOFFSETTO:+0100
TZNAME:CET
DTSTART:20141026T010000
END:STANDARD
BEGIN:DAYLIGHT
TZOFFSETFROM:+0100
TZOFFSETTO:+0200
TZNAME:CEST
DTSTART:20150329T010000
END:DAYLIGHT
BEGIN:STANDARD
TZOFFSETFROM:+0200
TZOFFSETTO:+0100
TZNAME:CET
DTSTART:20151025T010000
END:STANDARD
BEGIN:DAYLIGHT
TZOFFSETFROM:+0100
TZOFFSETTO:+0200
TZNAME:CEST
DTSTART:20160327T010000
END:DAYLIGHT
BEGIN:STANDARD
TZOFFSETFROM:+0200
TZOFFSETTO:+0100
TZNAME:CET
DTSTART:20161030T010000
END:STANDARD
END:VTIMEZONE
BEGIN:VEVENT
DTSTART;VALUE=DATE:20151204
DTEND;VALUE=DATE:20151205
DTSTAMP:20260420T163238
CREATED:20191104T135953Z
LAST-MODIFIED:20191104T141823Z
UID:10001318-1449187200-1449273599@uv-bb.de
SUMMARY:Vortragsveranstaltung des VBIW zum Thema "Systematisches Erfinden"
DESCRIPTION:Wildau| Der Verein Brandenburgischer Ingenieure und Wirtschaftler e.V. (VBIW) führt eine Vortragsveranstaltung zum Thema "Systematisches Erfinden" durch.\n4. Dezember 2015\, ab 9.30 UhrTH Wildau\, Haus 16\, Aufgang D\, Raum 0030\nInformationen zum Programm\, Kosten und Anmeldung erhalten Sie hier:\nVBIW2015_Flyer_Erfinden_neu.pdf \nVBIW2015_Flyer_Erfinden_neu.pdf
URL:https://uv-bb.de/event/vortragsveranstaltung-des-vbiw-zum-thema-systematisches-erfinden/
END:VEVENT
END:VCALENDAR